BEGIN:VCALENDAR
VERSION:2.0
PRODID:-//wp-events-plugin.com//7.2.3.1//EN
TZID:Europe/Amsterdam
X-WR-TIMEZONE:Europe/Amsterdam
BEGIN:VEVENT
UID:39121@agenda-zaanstreek.nl
DTSTART;TZID=Europe/Amsterdam:20250629T140000
DTEND;TZID=Europe/Amsterdam:20250629T151500
DTSTAMP:20250612T074021Z
URL:https://agenda-zaanstreek.nl/events/inspiratielezing-jos-kessels-zomer
 klanken-muziekweekend/
SUMMARY:Inspiratielezing Jos Kessels Zomerklanken Muziekweekend
DESCRIPTION:\n\nFilosoof en schrijver Jos Kessels geeft tijdens het Zomerkl
 anken Muziekweekend de inspiratielezing ´het welgetemperde gemoed – Taa
 l geven aan muziek´.&nbsp\;&nbsp\;\n\n\n\n\n\n\n\n\n\nHet Wohltemperierte
  Klavier van Johann Sebastian Bach wordt algemeen beschouwd als een van de
  invloedrijkste composities uit de westerse muziek. Grote musici als Mozar
 t\, Beethoven\, Schumann en Wagner beschouwden dit werk als hun muzikale b
 ijbel\, in de diepste betekenis van het woord\, ‘een boek waarin alle wi
 jsheid en de gehele menselijke gevoelswereld te vinden is\, waartoe men st
 eeds terugkeert om troost\, lering en verrijking’ (Hans Brandts Buys).&n
 bsp\;\n\nIn zijn boeken Het welgetemperde gemoed (2019) en Taal geven aan 
 muziek (2023) reflecteert Kessels op de rol van muziek in de verbeelding e
 n het menselijke denken. Muziek is veel meer dan een abstract patroon van 
 bewegend geluid\, zij is een uitdrukking van ideeën\, emoties en menselij
 ke houdingen. Die vormen als vanzelf een verhaal\, een persoonlijke mythe\
 , waarin de vraag naar ‘het goede leven’ en de eigen invulling daarvan
  een centrale rol speelt.\nDe filosoof Ger Groot schreef in een recensie: 
 ‘Dankzij Kessels’ beschrijving luister je beter en hóór je meer. Tus
 sen feit en fictie sleept dit boek je mee in wat in de volle zin van het w
 oord een levensles mag heten.’ (Knack)\n\nOver Jos Kessels\nJos Kessels 
 studeerde rechten en filosofie en werkte aanvankelijk als musicus\, journa
 list en filosofiedocent. Hij schreef een proefschrift over kennistheorie e
 n filosofieonderwijs en specialiseerde zich in de theorie en praktijk van 
 het socratisch gesprek. Kessels heeft 35 jaar lang gesprekken en traininge
 n geleid met managers en bestuurders in verschillende sectoren van de same
 nleving: gezondheidszorg\, overheid\, politie\, onderwijs\, banken. Hij we
 rkt vanuit bureau Eidoskoop\, dat zich toelegt op onderzoek en ontwikkelin
 g van ideeën. Kessels publiceerde bij Boom onder meer Geluk en wijsheid v
 oor beginners (zesde druk 2012)\, Vrije ruimte (vijfde druk 2013)\, Spelen
  met ideeën (2012)\, Scholing van de geest (2014) en Het welgetemperde ge
 moed (2019). Dit jaar verscheen zijn magnum opus In vorm komen – Handboe
 k praktische filosofie.\n\n\n\n\n\n\n\nPRAKTISCHE INFO\n\n\n\n\n\n&nbsp\;\
 n\n\n\n\n\n\nLocatie:&nbsp\;Verkadezaal (lokaal 9) Fluxus locatie Verkadef
 abriek\, Westzijde 168 Zaandam\n\nTijd:&nbsp\;14.00 – 15.15 uur\n\nPrijs
 :&nbsp\;€ 10\,- (per pin betalen op locatie)\n\nTicket reserveren:&nbsp\
 ;via aanmeldformulier\n\n\n\n&nbsp\;\n\n\n\n
CATEGORIES:Lezing,Muziek
LOCATION:Fluxus\, centrum voor de kunsten - locatie Verkade\, Westzijde 168
 \, Zaandam\, 1506 EK\, Nederland
X-APPLE-STRUCTURED-LOCATION;VALUE=URI;X-ADDRESS=Westzijde 168\, Zaandam\, 1
 506 EK\, Nederland;X-APPLE-RADIUS=100;X-TITLE=Fluxus\, centrum voor de kun
 sten - locatie Verkade:geo:0,0
END:VEVENT
BEGIN:VTIMEZONE
TZID:Europe/Amsterdam
X-LIC-LOCATION:Europe/Amsterdam
BEGIN:DAYLIGHT
DTSTART:20250330T030000
TZOFFSETFROM:+0100
TZOFFSETTO:+0200
TZNAME:CEST
END:DAYLIGHT
END:VTIMEZONE
END:VCALENDAR