BEGIN:VCALENDAR
VERSION:2.0
PRODID:-//wp-events-plugin.com//7.2.3.1//EN
TZID:Europe/Amsterdam
X-WR-TIMEZONE:Europe/Amsterdam
BEGIN:VEVENT
UID:38727@agenda-zaanstreek.nl
DTSTART;TZID=Europe/Amsterdam:20250522T133000
DTEND;TZID=Europe/Amsterdam:20250522T163000
DTSTAMP:20250515T102202Z
URL:https://agenda-zaanstreek.nl/events/informatiemarkt-welzijnwonenplus-o
 ostzaan/
SUMMARY:Informatiemarkt WelzijnWonenPlus Oostzaan
DESCRIPTION:\n\n\n\nGoed nieuws: op donderdag 22 mei organiseert WelzijnWon
 enPlus met Team Sportservice en gemeente Oostzaan een informatiemarkt over
  gezond en veilig ouder worden. Kom je ook langs bij het kraampje van Door
 trappen?\n\n\n\nDoortrappen op de informatiemarkt\n\nTijdens het ouder wor
 den\, kun je te maken krijgen met (grote) veranderingen in het leven: rouw
  en verlies\, ziekte of zorg voor een naaste\, nieuwe behoeften of wensen.
  Gelukkig hoef je dit niet alleen te doen! Tijdens de informatiemarkt kun 
 je bij meer dan 20 organisaties terecht met al je vragen over zorg\, welzi
 jn\, gezondheid en bewegen\, vakantie en vrije tijd\, en meer.\n\nOok Door
 trappen heeft een kraampje op de markt bemachtigd. Kom bij ons langs voor 
 meer informatie over veilig én prettig fietsen\, de georganiseerde Doortr
 appen-activiteiten en flyermateriaal.\n\nAanmelden en meer informatie\n\nI
 edereen is welkom. Toegang is gratis en de locatie is rolstoeltoegankelijk
 .\n\nTijd en locatie\n\nDatum:&nbsp\;donderdag 22 mei 2025\nTijd:&nbsp\;13
 .30-16.30 uur\nLocatie:&nbsp\;Gemeentehuis Oostzaan\, Kerkbuurt 4 Zaandam\
 n\nAanwezige organisaties op de informatiemarkt\n\n 	Brijder\n 	Heul Gezon
 d\n 	Belbus Oostzaan\n 	Dovida\n 	WelzijnWonenPlus\n 	Team Sportservice\n 
 	Miedema Mantelzorgmakelaar\n 	MB Mantelzorg\n 	Doortrappen\n 	De Bieb\n 	
 MEE Clientondersteuning\n 	Healthy Vibes\n 	Ikstopnu\n 	WMO\n 	Dagbestedin
 g de Gele Lis\n 	Vier Het Leven\n 	NAH Café Odion\n 	Evean GewoonThuis\n 
 	Fysio De Kolk\n 	De Bres\n 	Stichting Vaarwens\n 	Het Buitenhuis Wijdewor
 mer\n 	Vegro\n 	Oostzaners voor Elkaar\n 	De Brandweer\n\n\n
CATEGORIES:Sociaal
LOCATION:De KunstGreep\, Kerkbuurt 4\, Oostzaan\, 1511 BD\, Nederland
X-APPLE-STRUCTURED-LOCATION;VALUE=URI;X-ADDRESS=Kerkbuurt 4\, Oostzaan\, 15
 11 BD\, Nederland;X-APPLE-RADIUS=100;X-TITLE=De KunstGreep:geo:0,0
END:VEVENT
BEGIN:VTIMEZONE
TZID:Europe/Amsterdam
X-LIC-LOCATION:Europe/Amsterdam
BEGIN:DAYLIGHT
DTSTART:20250330T030000
TZOFFSETFROM:+0100
TZOFFSETTO:+0200
TZNAME:CEST
END:DAYLIGHT
END:VTIMEZONE
END:VCALENDAR