BEGIN:VCALENDAR
VERSION:2.0
PRODID:-//wp-events-plugin.com//7.2.3.1//EN
TZID:Europe/Amsterdam
X-WR-TIMEZONE:Europe/Amsterdam
BEGIN:VEVENT
UID:37091@agenda-zaanstreek.nl
DTSTART;TZID=Europe/Amsterdam:20250209T133000
DTEND;TZID=Europe/Amsterdam:20250209T133000
DTSTAMP:20250130T104807Z
URL:https://agenda-zaanstreek.nl/events/informatiebijeenkomst-over-de-burg
 erdoop/
SUMMARY:Informatiebijeenkomst over de burgerdoop
DESCRIPTION:Op zondag 9 februari is er in het Bartel Jacobsz Centrum naast 
 de Grote Kerk een informatiebijeenkomst over de burgerdoop.&nbsp\;\nDe bur
 gerdoop is geen christelijke doop maar een ander ritueel. Met dit ritueel 
 bevestigen ouders wat ze aan goeds aan hun kind willen meegeven\, ook als 
 ze niet geloven of niet (meer) christelijk geloven.&nbsp\;\nNa een serie v
 an vier bijeenkomsten\, waarin de ouders over de burgerdoop in gesprek gaa
 n\, volgt de afsluiting met een ritueel dat past bij de ouders en het kind
 . Ook naar de precieze vormgeving van dat ritueel gaan de betrokkenen met 
 elkaar op zoek.&nbsp\;\nDe infobijeenkomst van 9 februari start om 13.30 u
 ur en duurt ongeveer een uur.&nbsp\;\nBelangstellenden kunnen zich aanmeld
 en bij Sjaak Visser\, pionier van de Grote Kerk in Oostzaan. Het is ook mo
 gelijk een brochure over de burgerdoop aan te vragen. App naar 06-23307123
  of mailen naar predikant@pknoostzaan.nl
CATEGORIES:Interkerkelijk
LOCATION:Bartel Jacobs Centrum\, Kerkbuurt 12\, Oostzaan\, Nederland
X-APPLE-STRUCTURED-LOCATION;VALUE=URI;X-ADDRESS=Kerkbuurt 12\, Oostzaan\, N
 ederland;X-APPLE-RADIUS=100;X-TITLE=Bartel Jacobs Centrum:geo:0,0
END:VEVENT
BEGIN:VTIMEZONE
TZID:Europe/Amsterdam
X-LIC-LOCATION:Europe/Amsterdam
BEGIN:STANDARD
DTSTART:20241027T020000
TZOFFSETFROM:+0200
TZOFFSETTO:+0100
TZNAME:CET
END:STANDARD
END:VTIMEZONE
END:VCALENDAR