BEGIN:VCALENDAR
VERSION:2.0
PRODID:-//wp-events-plugin.com//7.2.3.1//EN
TZID:Europe/Amsterdam
X-WR-TIMEZONE:Europe/Amsterdam
BEGIN:VEVENT
UID:39119@agenda-zaanstreek.nl
DTSTART;TZID=Europe/Amsterdam:20250616T100000
DTEND;TZID=Europe/Amsterdam:20250616T114500
DTSTAMP:20250612T073140Z
URL:https://agenda-zaanstreek.nl/events/informatie-over-ontwikkeling-in-de
 -zorg/
SUMMARY:Informatie over ontwikkeling in de zorg
DESCRIPTION:De Cliëntenraad Thuiszorg van Evean organiseert een informatie
 ochtend voor (toekomstige) zorgvragers\, mantelzorgers en familie. Hierbij
  wordt onder meer informatie gegeven over hulpmiddelen om langer zelfstand
 ig te blijven.\n\n\n\n\n\nEr is een wijkverpleegkundige aanwezig en ook ma
 ntelzorgmakelaar Miedema sluit aan voor het beantwoorden van de diverse vr
 agen. De koffie staat klaar.&nbsp\;\n\nDe locatie is Evean Westerwatering 
 \, Elsbroekplantsoen 1 in Zaandam\, datum: maandag 16 juni\, tijd: van 10.
 00 tot 11.45 uur. Kosten: gratis (aanmelden is niet nodig).\n\n
CATEGORIES:Sociaal
LOCATION:Evean Westerwatering\, Elsbroekplantsoen 1\, Zaandam\, 1507 KL\, N
 ederland
X-APPLE-STRUCTURED-LOCATION;VALUE=URI;X-ADDRESS=Elsbroekplantsoen 1\, Zaand
 am\, 1507 KL\, Nederland;X-APPLE-RADIUS=100;X-TITLE=Evean Westerwatering:g
 eo:0,0
END:VEVENT
BEGIN:VTIMEZONE
TZID:Europe/Amsterdam
X-LIC-LOCATION:Europe/Amsterdam
BEGIN:DAYLIGHT
DTSTART:20250330T030000
TZOFFSETFROM:+0100
TZOFFSETTO:+0200
TZNAME:CEST
END:DAYLIGHT
END:VTIMEZONE
END:VCALENDAR