BEGIN:VCALENDAR
VERSION:2.0
PRODID:-//wp-events-plugin.com//7.2.3.1//EN
TZID:Europe/Amsterdam
X-WR-TIMEZONE:Europe/Amsterdam
BEGIN:VEVENT
UID:38872@agenda-zaanstreek.nl
DTSTART;TZID=Europe/Amsterdam:20250607T130000
DTEND;TZID=Europe/Amsterdam:20250608T170000
DTSTAMP:20250528T091910Z
URL:https://agenda-zaanstreek.nl/events/iktoon-de-zaanstreek-fluxus-zaans-
 groen-2/
SUMMARY:IKToon de Zaanstreek – Fluxus – Zaans Groen
DESCRIPTION:\nKunst verbindt\, biedt ruimte voor expressie en is er voor ie
 dereen – ongeacht afkomst\, beperking\, inkomen of vorm.\n\n\n\n\nIn jun
 i 2025 kun je de hele maand meedoen\, luisteren\, kijken en beleven hoe ri
 jk de Zaanstreek aan amateurkunst is! In juni&nbsp\;wordt namelijk heel Za
 anstad het podium van amateurkunstenaars.&nbsp\;‘IKToon de Zaanstreek’
  laat zien hoe creatief en actief amateurkunstenaars in onze regio zijn!\n
 \nZaanse (amateur-)kunstenaars laten hun kleur zien tijdens deze veelzijdi
 ge expositie. Een bont geheel van unieke werken van talenten van alle leef
 tijden\, van beginnend tot ervaren. Drie weekenden geniet je van een rijk\
 , divers en inclusief aanbod dat de verbinding toont tussen amateur en pro
 fessional. De opening met een hapje en een drankje vindt plaats op 1 juni 
 om 13 uur bij Galerie Zaansgroen.&nbsp\;\nDe expositie ‘Toon je kleur’
  vindt plaats op 31|MEI-1|7|8|14|15|JUN op zaterdag en zondag van 13.00-17
 .00u – vrij entree.&nbsp\;Deze expositie is een initiatief van Fluxus (I
 kToon de Zaanstreek)\n
CATEGORIES:Expositie
LOCATION:Zaans Groen\, Zeemansstraat 54\, Zaandam\, 1506 CV\, Nederland
X-APPLE-STRUCTURED-LOCATION;VALUE=URI;X-ADDRESS=Zeemansstraat 54\, Zaandam\
 , 1506 CV\, Nederland;X-APPLE-RADIUS=100;X-TITLE=Zaans Groen:geo:0,0
END:VEVENT
BEGIN:VTIMEZONE
TZID:Europe/Amsterdam
X-LIC-LOCATION:Europe/Amsterdam
BEGIN:DAYLIGHT
DTSTART:20250330T030000
TZOFFSETFROM:+0100
TZOFFSETTO:+0200
TZNAME:CEST
END:DAYLIGHT
END:VTIMEZONE
END:VCALENDAR