BEGIN:VCALENDAR
VERSION:2.0
PRODID:-//wp-events-plugin.com//7.2.3.1//EN
TZID:Europe/Amsterdam
X-WR-TIMEZONE:Europe/Amsterdam
BEGIN:VEVENT
UID:36387@agenda-zaanstreek.nl
DTSTART;TZID=Europe/Amsterdam:20250118T150000
DTEND;TZID=Europe/Amsterdam:20250118T170000
DTSTAMP:20241218T142047Z
URL:https://agenda-zaanstreek.nl/events/ijzigkoud-experimenteren-7-14j/
SUMMARY:IJzigkoud experimenteren! 7-14j
DESCRIPTION:ZA 18\, 25 JAN:&nbsp\;\n\n\n\nTickets\n\nHoe koud kan jij het i
 n het Hemlab maken? Probeer het met water\, ijs\, zout\, roeren\, zwaaien 
 en met chemie. Hoe smelt ijs op ijzer\, plastic of in zoet of zout water? 
 Maak een wolk en nog meer. Je ontdekt het allemaal in het Hemlab!\n\nZa 18
  jan 2025 15.00-17.00 u\nZa 25 jan 2025 15.00-17.00 u\n\n&nbsp\;\n\nhemlab
 .nl/tickets\nKind 7-14 jaar/volwassene €13\,50\nExtra voordelig met&nbsp
 \;strippenkaart\nMet ZaansePas/Stadspas €2\,50\n\n
CATEGORIES:Cursus Workshop,Jeugd
LOCATION:HEMLAB - Jeugdlab Zaandam\, Barndegat 6-8\, Zaandam\, 1505 HN\, Ne
 derland
X-APPLE-STRUCTURED-LOCATION;VALUE=URI;X-ADDRESS=Barndegat 6-8\, Zaandam\, 1
 505 HN\, Nederland;X-APPLE-RADIUS=100;X-TITLE=HEMLAB - Jeugdlab Zaandam:ge
 o:0,0
END:VEVENT
BEGIN:VTIMEZONE
TZID:Europe/Amsterdam
X-LIC-LOCATION:Europe/Amsterdam
BEGIN:STANDARD
DTSTART:20241027T020000
TZOFFSETFROM:+0200
TZOFFSETTO:+0100
TZNAME:CET
END:STANDARD
END:VTIMEZONE
END:VCALENDAR