BEGIN:VCALENDAR
VERSION:2.0
PRODID:-//wp-events-plugin.com//7.2.3.1//EN
TZID:Europe/Amsterdam
X-WR-TIMEZONE:Europe/Amsterdam
BEGIN:VEVENT
UID:40116@agenda-zaanstreek.nl
DTSTART;TZID=Europe/Amsterdam:20251018T140000
DTEND;TZID=Europe/Amsterdam:20251019T170000
DTSTAMP:20250905T103309Z
URL:https://agenda-zaanstreek.nl/events/ifikz-fotowandeling-wandelen-met-d
 e-camera-in-de-aanslag/
SUMMARY:IFIKZ Fotowandeling Wandelen met de camera in de aanslag
DESCRIPTION:\n\n\n\n\n\n\n\nIn ongeveer drie uur loop je onder begeleiding 
 van Marjolein Lensink\, een in fotografie gespecialiseerde gids\, van het 
 Molenmuseum richting Wormerveer. Tijdens de wandeling word je uitgedaagd d
 e unieke contrasten van de Zaanstreek met je mobiel of camera vast te legg
 en. Wat is er te zien en hoe leg je dat zo mooi mogelijk vast? Een streek 
 waar je heel duidelijk de ontwikkeling van molen tot industrie kunt waarne
 men.&nbsp\;\n\n\nMaak kennis met molenambachten\n\n\n\n\n\nLOCATIE:&nbsp\;
 Molenmuseum\,&nbsp\;Kalverringdijk 30\, Zaanse Schans\, 1509 BT Zaandam\nT
 IJD:&nbsp\;14.00 tot 17.00 uur\nVOOR WIE:&nbsp\;volwassenen\nPRIJS:&nbsp\;
 € 10\,-\n\n\n\n\n&nbsp\;\n\n\n\n\n\nTICKETS\n\n\nZA 18 oktober - 14:00 U
 UR\nZo 19 oktober - 14.00 uur\n\n
CATEGORIES:Cursus Workshop,Erfgoed
LOCATION:Molenmuseum\, Kalverringdijk 30\, Zaandam\, 1509 BT\, Nederland
X-APPLE-STRUCTURED-LOCATION;VALUE=URI;X-ADDRESS=Kalverringdijk 30\, Zaandam
 \, 1509 BT\, Nederland;X-APPLE-RADIUS=100;X-TITLE=Molenmuseum:geo:0,0
END:VEVENT
BEGIN:VTIMEZONE
TZID:Europe/Amsterdam
X-LIC-LOCATION:Europe/Amsterdam
BEGIN:DAYLIGHT
DTSTART:20250330T030000
TZOFFSETFROM:+0100
TZOFFSETTO:+0200
TZNAME:CEST
END:DAYLIGHT
END:VTIMEZONE
END:VCALENDAR