BEGIN:VCALENDAR
VERSION:2.0
PRODID:-//wp-events-plugin.com//7.2.3.1//EN
TZID:Europe/Amsterdam
X-WR-TIMEZONE:Europe/Amsterdam
BEGIN:VEVENT
UID:40115@agenda-zaanstreek.nl
DTSTART;TZID=Europe/Amsterdam:20251018T130000
DTEND;TZID=Europe/Amsterdam:20251019T170000
DTSTAMP:20250905T103140Z
URL:https://agenda-zaanstreek.nl/events/ifikz-festivalhart-maak-kennis-met
 -molenambachten/
SUMMARY:IFIKZ - Festivalhart Maak kennis met molenambachten
DESCRIPTION:\n\n\n\n\n\n\n\nBij het Molenmuseum kun je in het feestelijk in
 gerichte festivalhart kennismaken met verschillende molenambachten. Zo lee
 r je alles over het vak van molenaar\, kun je touwen maken\, maak je jurke
 n van papier\, zie je de smid aan het werk en nog veel meer. Als je alle a
 mbachten hebt meegemaakt\, kun je met een volle stempelkaart lekkere poffe
 rtjes halen bij de poffertjeskraam. Een fantastisch familieuitje voor het 
 IFIKZ-festivalweekend!\n\n\n\n&nbsp\;\n\n\n\n\n\n\nLOCATIE:&nbsp\;Molenmus
 eum\,&nbsp\;Kalverringdijk 30\, Zaanse Schans\, 1509 BT Zaandam\nTIJD:&nbs
 p\;open inloop vanaf 13.00 tot 17.00 uur\nVOOR WIE:&nbsp\;voor iedereen va
 naf 6 jaar\nPRIJS:&nbsp\;gratis\nTICKETS:&nbsp\;niet nodig\n\n\n
CATEGORIES:Erfgoed
LOCATION:Molenmuseum\, Kalverringdijk 30\, Zaandam\, 1509 BT\, Nederland
X-APPLE-STRUCTURED-LOCATION;VALUE=URI;X-ADDRESS=Kalverringdijk 30\, Zaandam
 \, 1509 BT\, Nederland;X-APPLE-RADIUS=100;X-TITLE=Molenmuseum:geo:0,0
END:VEVENT
BEGIN:VTIMEZONE
TZID:Europe/Amsterdam
X-LIC-LOCATION:Europe/Amsterdam
BEGIN:DAYLIGHT
DTSTART:20250330T030000
TZOFFSETFROM:+0100
TZOFFSETTO:+0200
TZNAME:CEST
END:DAYLIGHT
END:VTIMEZONE
END:VCALENDAR