BEGIN:VCALENDAR
VERSION:2.0
PRODID:-//wp-events-plugin.com//7.2.3.1//EN
TZID:Europe/Amsterdam
X-WR-TIMEZONE:Europe/Amsterdam
BEGIN:VEVENT
UID:35924@agenda-zaanstreek.nl
DTSTART;TZID=Europe/Amsterdam:20250105T140000
DTEND;TZID=Europe/Amsterdam:20250105T160000
DTSTAMP:20241121T110355Z
URL:https://agenda-zaanstreek.nl/events/huf-roos-2-een-partijtje-voor-gijs
 -2x/
SUMMARY:Huf Roos (2+) Een partijtje voor Gijs (2x)
DESCRIPTION:\n\nzo5 jan 202514.00Albert HeijnzaalBestel\n\n\n\nzo5 jan 2025
 16.00Albert HeijnzaalBestel\nMeer Info\n\n\nGa mee op avontuur met de popu
 laire juf Roos. Het begint natuurlijk bij de molen waar juf Roos woont. Zi
 j organiseert een partijtje voor haar buurjongen Gijs op de kinderboerderi
 j\, maar eenmaal daar aangekomen loopt het allemaal toch anders dan verwac
 ht. Het partijtje eindigt op de open plek in een prachtig bos... Deze voor
 stelling is interactiever dan ooit: kinderen verzinnen\, roepen en dansen 
 mee en natuurlijk zingt iedereen mee met alle hits van de afgelopen jaren.
 \n\n
CATEGORIES:Jeugd en Familie
LOCATION:Zaantheater\, Nicolaasstraat 3\, Zaandam\, 1506 BB\, Nederland
X-APPLE-STRUCTURED-LOCATION;VALUE=URI;X-ADDRESS=Nicolaasstraat 3\, Zaandam\
 , 1506 BB\, Nederland;X-APPLE-RADIUS=100;X-TITLE=Zaantheater:geo:0,0
END:VEVENT
BEGIN:VTIMEZONE
TZID:Europe/Amsterdam
X-LIC-LOCATION:Europe/Amsterdam
BEGIN:STANDARD
DTSTART:20241027T020000
TZOFFSETFROM:+0200
TZOFFSETTO:+0100
TZNAME:CET
END:STANDARD
END:VTIMEZONE
END:VCALENDAR