BEGIN:VCALENDAR
VERSION:2.0
PRODID:-//wp-events-plugin.com//7.2.3.1//EN
TZID:Europe/Amsterdam
X-WR-TIMEZONE:Europe/Amsterdam
BEGIN:VEVENT
UID:37101@agenda-zaanstreek.nl
DTSTART;TZID=Europe/Amsterdam:20250208T200000
DTEND;TZID=Europe/Amsterdam:20250208T200000
DTSTAMP:20250130T112938Z
URL:https://agenda-zaanstreek.nl/events/hub-unplugged-singer-songwriter-se
 ssions-1/
SUMMARY:HUB Unplugged singer & songwriter sessions #1
DESCRIPTION:\n\n\n\nGeorganiseerd door HUB\,&nbsp\;Podium DE FLUX\n\n\n\n\n
 \nIn samenwerking met HUB presenteren we&nbsp\;Hub Unplugged\, dé singer-
 songwriter avond waar lokale artiesten je meenemen in hun wereld van akoes
 tische klanken en persoonlijke teksten. Tijdens deze eerste editie op zate
 rdag 08 februari komen Danny Loef en Frank Nicholas langs. Breng je vriend
 en mee\, geniet van een drankje en ontdek het talent uit eigen regio. De e
 ntree is gratis!\n\nDanny Loef\nDe Zaanse Danny Loef is een singer songwri
 ter in de stijl van Ben Howard. Met een bijzondere ritmische gitaartechnie
 k die doet denken aan Andy McKee zou je soms zweren dat er een drummer bij
  is.\n\n
CATEGORIES:Muziek
LOCATION:Hub14\, Westzijde 14\, Zaandam\, Nederland
X-APPLE-STRUCTURED-LOCATION;VALUE=URI;X-ADDRESS=Westzijde 14\, Zaandam\, Ne
 derland;X-APPLE-RADIUS=100;X-TITLE=Hub14:geo:0,0
END:VEVENT
BEGIN:VTIMEZONE
TZID:Europe/Amsterdam
X-LIC-LOCATION:Europe/Amsterdam
BEGIN:STANDARD
DTSTART:20241027T020000
TZOFFSETFROM:+0200
TZOFFSETTO:+0100
TZNAME:CET
END:STANDARD
END:VTIMEZONE
END:VCALENDAR