BEGIN:VCALENDAR
VERSION:2.0
PRODID:-//wp-events-plugin.com//7.2.3.1//EN
TZID:Europe/Amsterdam
X-WR-TIMEZONE:Europe/Amsterdam
BEGIN:VEVENT
UID:37333@agenda-zaanstreek.nl
DTSTART;TZID=Europe/Amsterdam:20250215T220000
DTEND;TZID=Europe/Amsterdam:20250215T220000
DTSTAMP:20250213T105600Z
URL:https://agenda-zaanstreek.nl/events/house-of-eden/
SUMMARY:House of Eden
DESCRIPTION:MORE presents&nbsp\;LAMMER&amp\;Freddi zijn vanavond en vannach
 t in Club MORE. (hard)House en het schijnt dat zij de grootste hits in de 
 scene hebben gescoord dit jaar. (Tot zover de vertaling die we vonden bij 
 de aankondiging op Facebook). Er is more\, ook Anne Nymphaea\, L.J. en Mar
 kys zijn erbij.\nBron: De Orkaan House of Eden - Waarheen
CATEGORIES:Horeca,Muziek
LOCATION:Club More\, Dam 8\, Zaandam\, 1506 BD\, Nederland
X-APPLE-STRUCTURED-LOCATION;VALUE=URI;X-ADDRESS=Dam 8\, Zaandam\, 1506 BD\,
  Nederland;X-APPLE-RADIUS=100;X-TITLE=Club More:geo:0,0
END:VEVENT
BEGIN:VTIMEZONE
TZID:Europe/Amsterdam
X-LIC-LOCATION:Europe/Amsterdam
BEGIN:STANDARD
DTSTART:20241027T020000
TZOFFSETFROM:+0200
TZOFFSETTO:+0100
TZNAME:CET
END:STANDARD
END:VTIMEZONE
END:VCALENDAR