BEGIN:VCALENDAR
VERSION:2.0
PRODID:-//wp-events-plugin.com//7.2.3.1//EN
TZID:Europe/Amsterdam
X-WR-TIMEZONE:Europe/Amsterdam
BEGIN:VEVENT
UID:40909@agenda-zaanstreek.nl
DTSTART;TZID=Europe/Amsterdam:20251221T160000
DTEND;TZID=Europe/Amsterdam:20251221T160000
DTSTAMP:20251218T102935Z
URL:https://agenda-zaanstreek.nl/events/homegrown2-met-imishango-mandinka-
 the-unstoppable-force-rootz-lion-royalee/
SUMMARY:HOMEGROWN#2 met Imishango Mandinka & The Unstoppable Force \, Rootz
  Lion & Royalee
DESCRIPTION:\n\nIn samenwerking met ZenSocial\n\n\n\n\n\n 	Datum\n 	21 dece
 mber 2025\n 	Voorverkoop\n 	€ 12\,50\n 	Deur\n 	€ 17\,50\n\n\n 	Locati
 e\n 	Podium DE FLUX\n 	Zaal open\n 	16:00\n 	Aanvang\n 	16:00\n\n\n
CATEGORIES:Muziek
LOCATION:Podium De Flux\, Hemkade 48\, Zaandam\, 1506 PS\, Nederland
X-APPLE-STRUCTURED-LOCATION;VALUE=URI;X-ADDRESS=Hemkade 48\, Zaandam\, 1506
  PS\, Nederland;X-APPLE-RADIUS=100;X-TITLE=Podium De Flux:geo:0,0
END:VEVENT
BEGIN:VTIMEZONE
TZID:Europe/Amsterdam
X-LIC-LOCATION:Europe/Amsterdam
BEGIN:STANDARD
DTSTART:20251026T020000
TZOFFSETFROM:+0200
TZOFFSETTO:+0100
TZNAME:CET
END:STANDARD
END:VTIMEZONE
END:VCALENDAR