BEGIN:VCALENDAR
VERSION:2.0
PRODID:-//wp-events-plugin.com//7.2.3.1//EN
TZID:Europe/Amsterdam
X-WR-TIMEZONE:Europe/Amsterdam
BEGIN:VEVENT
UID:37242@agenda-zaanstreek.nl
DTSTART;TZID=Europe/Amsterdam:20250228T140000
DTEND;TZID=Europe/Amsterdam:20250228T140000
DTSTAMP:20250206T103123Z
URL:https://agenda-zaanstreek.nl/events/hollandse-middag-met-piet-meester-
 2/
SUMMARY:Hollandse middag met Piet Meester
DESCRIPTION:\n\n 	29 januari 2025\n 	Nieuws\n\n\n\n\nNa daverend succes op 
 herhaling. Piet meester maakt er weer een mooie hollandse middag van. Als 
 je niet aan het lijnen bent kan je ook nog een bitterballetje meepikken.\n
 \nIedereen is welkom op Vrijdag 28 februari en het begint om 14:00 uur en 
 de entree is gratis\n\n
CATEGORIES:Muziek,Sociaal
LOCATION:Buurtcentrum De Bovenkruier\, Drielse Wetering 49\, Zaandam\, 1509
  KP\, Nederland
X-APPLE-STRUCTURED-LOCATION;VALUE=URI;X-ADDRESS=Drielse Wetering 49\, Zaand
 am\, 1509 KP\, Nederland;X-APPLE-RADIUS=100;X-TITLE=Buurtcentrum De Bovenk
 ruier:geo:0,0
END:VEVENT
BEGIN:VTIMEZONE
TZID:Europe/Amsterdam
X-LIC-LOCATION:Europe/Amsterdam
BEGIN:STANDARD
DTSTART:20241027T020000
TZOFFSETFROM:+0200
TZOFFSETTO:+0100
TZNAME:CET
END:STANDARD
END:VTIMEZONE
END:VCALENDAR