BEGIN:VCALENDAR
VERSION:2.0
PRODID:-//wp-events-plugin.com//7.2.3.1//EN
TZID:Europe/Amsterdam
X-WR-TIMEZONE:Europe/Amsterdam
BEGIN:VEVENT
UID:40596@agenda-zaanstreek.nl
DTSTART;TZID=Europe/Amsterdam:20251108T200000
DTEND;TZID=Europe/Amsterdam:20251108T200000
DTSTAMP:20251106T110842Z
URL:https://agenda-zaanstreek.nl/events/hoe-overleef-ik-alles-wat-ik-niema
 nd-vertel/
SUMMARY:Hoe overleef ik alles wat ik niemand vertel?
DESCRIPTION:\nDe bestseller voor volwassenen komt naar het theater!\n\n 	&n
 bsp\;\n\nNa het succes van meer dan drie miljoen verkochte boeken\, twee m
 usicals\, een bioscoopfilm en twee televisieseries keert de geliefde ‘Ho
 e overleef ik’-reeks terug naar de Nederlandse theaters! De musical is g
 ebaseerd op het volwassen boek ‘Hoe overleef ik alles wat ik niemand ver
 tel?’ van Francine Oomen.\n\n\n\n\n\n\nRosa\, Esther\, Joya en Jonas zit
 ten midden in hun quarterlife-crisis. Na jaren elkaar uit het oog te zijn 
 verloren\, vinden ze elkaar terug op een bijzondere plek en besluiten ze h
 et roer om te gooien. Voor Rosa betekent dit een avontuur: een reis in een
  oud Italiaans autootje naar Portugal\, op zoek naar zichzelf en nieuwe dr
 omen. Wat doe je als je twijfelt\, je eenzaam voelt en je dromen anders zi
 jn dan de verwachtingen van anderen?\n\nNa het succes van boeken\, musical
 s\, een film en televisieseries keert de geliefde 'Hoe overleef ik'-reeks 
 terug naar het theater! De musical is gebaseerd op de bestseller&nbsp\;Hoe
  overleef ik alles wat ik niemand vertel?&nbsp\;van Francine Oomen.\n\n\n\
 n
CATEGORIES:Musical
LOCATION:Zaantheater\, Nicolaasstraat 3\, Zaandam\, 1506 BB\, Nederland
X-APPLE-STRUCTURED-LOCATION;VALUE=URI;X-ADDRESS=Nicolaasstraat 3\, Zaandam\
 , 1506 BB\, Nederland;X-APPLE-RADIUS=100;X-TITLE=Zaantheater:geo:0,0
END:VEVENT
BEGIN:VTIMEZONE
TZID:Europe/Amsterdam
X-LIC-LOCATION:Europe/Amsterdam
BEGIN:STANDARD
DTSTART:20251026T020000
TZOFFSETFROM:+0200
TZOFFSETTO:+0100
TZNAME:CET
END:STANDARD
END:VTIMEZONE
END:VCALENDAR