BEGIN:VCALENDAR
VERSION:2.0
PRODID:-//wp-events-plugin.com//7.2.3.1//EN
TZID:Europe/Amsterdam
X-WR-TIMEZONE:Europe/Amsterdam
BEGIN:VEVENT
UID:38201@agenda-zaanstreek.nl
DTSTART;TZID=Europe/Amsterdam:20250419T150000
DTEND;TZID=Europe/Amsterdam:20250419T234500
DTSTAMP:20250410T095719Z
URL:https://agenda-zaanstreek.nl/events/history-of-hardcore/
SUMMARY:History of Hardcore
DESCRIPTION:15:00 – 00:00\n\nStap terug in de tijd op 19 april\, want His
 tory of Hardcore landt in de legendarische Hemkade Zaandam! Na 2 spectacul
 aire edities keren we terug naar deze iconische locatie\, die hardcore ges
 chiedenis ademt. Dit keer pakken we groots uit met 2 area’s.\n\nDe Hemka
 de staat bekend als dé plek waar herinneringen worden gemaakt en losgaan 
 een kunstvorm is. Of je nu je oude hardcore roots wilt herbeleven of nieuw
 e herinneringen wilt creëren\, dit is jouw moment.\n\nLINEUP\n\nAREA I&nb
 sp\;MILLENNIUM HARDCORE\n\nAMNESYS\, ART OF FIGHTERS\, EVIL ACTIVITIES\, K
 ORSAKOFF\, MAD DOG\, PROMO\, THE PLAYAH\, MC THE WATCHER\n\nAREA 2 EARLY R
 AVE\n\nBASS-D\, BUZZ FUZZ\, CHOSEN FEW\, PAVO\, RUFFNECK\, VINCE\, MC RUFF
 IAN
CATEGORIES:Muziek
LOCATION:North Sea Venue\, Hemkade 48\, Zaandam\, 1506 PS\, Nederland
X-APPLE-STRUCTURED-LOCATION;VALUE=URI;X-ADDRESS=Hemkade 48\, Zaandam\, 1506
  PS\, Nederland;X-APPLE-RADIUS=100;X-TITLE=North Sea Venue:geo:0,0
END:VEVENT
BEGIN:VTIMEZONE
TZID:Europe/Amsterdam
X-LIC-LOCATION:Europe/Amsterdam
BEGIN:DAYLIGHT
DTSTART:20250330T030000
TZOFFSETFROM:+0100
TZOFFSETTO:+0200
TZNAME:CEST
END:DAYLIGHT
END:VTIMEZONE
END:VCALENDAR