BEGIN:VCALENDAR
VERSION:2.0
PRODID:-//wp-events-plugin.com//7.2.3.1//EN
TZID:Europe/Amsterdam
X-WR-TIMEZONE:Europe/Amsterdam
BEGIN:VEVENT
UID:37118@agenda-zaanstreek.nl
DTSTART;TZID=Europe/Amsterdam:20250219T190000
DTEND;TZID=Europe/Amsterdam:20250219T190000
DTSTAMP:20250130T135738Z
URL:https://agenda-zaanstreek.nl/events/hiphop-artiest-chivv-bezoekt-groot
 e-weiver/
SUMMARY:Hiphop artiest Chivv bezoekt Groote Weiver
DESCRIPTION:\n\n\n\n\n\n\n\n\n\n 	\n&nbsp\;\n 	\n\nwoensdag\, feb 19\, 2025
 Open: 18:30Aanvang: 19:00Prijs: Zie omschrijving\n\n\n\n\n\nWoensdag 19 fe
 bruari komt de bekende Hiphop artiest Chivv langs bij De Groote Weiver in 
 Wormerveer. In samenwerking met het Jongerenwerk\, laat Chivv zich deze av
 ond horen tegen (online) pestgedrag en sexting. Chivv gaat een aantal van 
 zijn hits spelen.\n\nDe avond richt zich op jongeren in de leeftijd van 14
  tot 20 jaar. Het Jongerenwerk wil\, samen met Chivv\, een belangrijke en 
 relevante boodschap overbrengen. Naast entertainment\, biedt deze avond ee
 n kans om het dialoog te openen over belangrijke thema’s als (online) pe
 stgedrag en sexting\, en wat de gevolgen hiervan kunnen zijn.\n\nVoorafgaa
 nd aan het optreden van Chivv\, is het podium voor jonge\, lokale artieste
 n om hun talenten te laten zien\; een open podium. Wil jij jouw talent lat
 en zien? Neem dan contact op met een van de Jongerenwerkers.\n\nKaarten zi
 jn alleen verkrijgbaar bij het Jongerenwerk van Krommenie en Wormerveer:\n
 Julian: 06-26000057\nKathleen: 06-10302409\n\n&nbsp\;\n\n\n\n\n\n\n
CATEGORIES:Muziek
LOCATION:De Groote Weiver\, Industrieweg 1a\, Wormerveer\, 1521 NA\, Wormer
 veer\, Nederland
X-APPLE-STRUCTURED-LOCATION;VALUE=URI;X-ADDRESS=Industrieweg 1a\, Wormervee
 r\, 1521 NA\, Wormerveer\, Nederland;X-APPLE-RADIUS=100;X-TITLE=De Groote 
 Weiver:geo:0,0
END:VEVENT
BEGIN:VTIMEZONE
TZID:Europe/Amsterdam
X-LIC-LOCATION:Europe/Amsterdam
BEGIN:STANDARD
DTSTART:20241027T020000
TZOFFSETFROM:+0200
TZOFFSETTO:+0100
TZNAME:CET
END:STANDARD
END:VTIMEZONE
END:VCALENDAR