BEGIN:VCALENDAR
VERSION:2.0
PRODID:-//wp-events-plugin.com//7.2.3.1//EN
TZID:Europe/Amsterdam
X-WR-TIMEZONE:Europe/Amsterdam
BEGIN:VEVENT
UID:36875@agenda-zaanstreek.nl
DTSTART;TZID=Europe/Amsterdam:20250125T143000
DTEND;TZID=Europe/Amsterdam:20250125T173000
DTSTAMP:20250118T141316Z
URL:https://agenda-zaanstreek.nl/events/het-zaanse-regenboogcafe-in-cafe-z
 aanzicht/
SUMMARY:Het Zaanse Regenboogcafé in café Zaanzicht
DESCRIPTION:\n\nHet Zaanse Regenboogcafé is op zaterdag 25 januari in &nbs
 p\;café Zaanzicht\, Oostzijde 209\, 1502 BD Zaandam van 14.30 - 17.30 uur
 .\n\nVanmiddag met als speciale gasten\, Debbie de Witte en Devon Donovan.
 \n\nDe middag is voor en door lhbtiqa+ Zaanstad maar iedereen is welkom! W
 e zijn er van 14.30 – 17.30 uur.\n\nInfo:&nbsp\; info@dezaanseregenboog.
 nl\n\nVoor overige activiteiten\, agenda en info\, check de website: www.d
 ezaanseregenboog.nl
CATEGORIES:Horeca,Sociaal | LHBTQI-gemeenschap
LOCATION:Café Zaanzicht\, Oostzijde 209\, Zaandam\, 1502 BD\, Nederland
X-APPLE-STRUCTURED-LOCATION;VALUE=URI;X-ADDRESS=Oostzijde 209\, Zaandam\, 1
 502 BD\, Nederland;X-APPLE-RADIUS=100;X-TITLE=Café Zaanzicht:geo:0,0
END:VEVENT
BEGIN:VTIMEZONE
TZID:Europe/Amsterdam
X-LIC-LOCATION:Europe/Amsterdam
BEGIN:STANDARD
DTSTART:20241027T020000
TZOFFSETFROM:+0200
TZOFFSETTO:+0100
TZNAME:CET
END:STANDARD
END:VTIMEZONE
END:VCALENDAR