BEGIN:VCALENDAR
VERSION:2.0
PRODID:-//wp-events-plugin.com//7.2.3.1//EN
TZID:Europe/Amsterdam
X-WR-TIMEZONE:Europe/Amsterdam
BEGIN:VEVENT
UID:36090@agenda-zaanstreek.nl
DTSTART;TZID=Europe/Amsterdam:20250118T201500
DTEND;TZID=Europe/Amsterdam:20250118T201500
DTSTAMP:20250109T085258Z
URL:https://agenda-zaanstreek.nl/events/het-zaans-showorkest-on-fire/
SUMMARY:Het Zaans Showorkest - On Fire
DESCRIPTION:\n\n\n\n\n\n\nWat krijg je als je een orkest rockmuziek laat sp
 elen? Vuurwerk!\n\nTel daar bij het geluid van de ruige gitaar van Ruben H
 oeke en het strelen van een zachte viool en je krijgt gegarandeerd kippenv
 el. Met “On fire” weet Het Zaans Showorkest weer een onvergetelijke sh
 ow neer te zetten. Reserveer nu meteen je kaarten voor deze koude januari 
 avond.\n\nDineren vooraf? Ook dat is mogelijk. We zijn een samenwerking aa
 ngegaan met&nbsp\; The Mail Company en zijn er verschillende 3 gangendiner
 s samengesteld. De diners zijn te bekijken en te bestellen via de website 
 van Het Zaans Showorkest.\n\nNa het diner naar de show…….dan heb je ee
 n compleet avondje uit!\n\nReserveer nu meteen je kaarten voor deze koude 
 januari avond. De kaarten voor de show zijn te koop via de website van het
  Zaantheater.\n\nza18 jan 202520.15Albert HeijnzaalBestel\n\n
CATEGORIES:Muziek
LOCATION:Zaantheater\, Nicolaasstraat 3\, Zaandam\, 1506 BB\, Nederland
X-APPLE-STRUCTURED-LOCATION;VALUE=URI;X-ADDRESS=Nicolaasstraat 3\, Zaandam\
 , 1506 BB\, Nederland;X-APPLE-RADIUS=100;X-TITLE=Zaantheater:geo:0,0
END:VEVENT
BEGIN:VTIMEZONE
TZID:Europe/Amsterdam
X-LIC-LOCATION:Europe/Amsterdam
BEGIN:STANDARD
DTSTART:20241027T020000
TZOFFSETFROM:+0200
TZOFFSETTO:+0100
TZNAME:CET
END:STANDARD
END:VTIMEZONE
END:VCALENDAR