BEGIN:VCALENDAR
VERSION:2.0
PRODID:-//wp-events-plugin.com//7.2.3.1//EN
TZID:Europe/Amsterdam
X-WR-TIMEZONE:Europe/Amsterdam
BEGIN:VEVENT
UID:37437@agenda-zaanstreek.nl
DTSTART;TZID=Europe/Amsterdam:20250321T183000
DTEND;TZID=Europe/Amsterdam:20250321T183000
DTSTAMP:20250220T104212Z
URL:https://agenda-zaanstreek.nl/events/het-zaans-museum-en-newbees-vieren
 -samen-iftar/
SUMMARY:Het Zaans museum en Newbees vieren samen Iftar
DESCRIPTION:Zaans Museum\n21 maart\, Inloop: 18:00 – 18:30 uur\nPrijs: gr
 atis\n\nWe vinden het belangrijk dat we vooral in deze tijd de verbinding 
 met elkaar blijven opzoeken. Samen eten en samen in gesprek gaan is een mo
 oi middel om dicht bij elkaar te komen. Iftar is de maaltijd die moslims t
 ijdens de vastenmaand Ramadan direct na zonsondergang nuttigen. Op onze If
 tar is iedereen welkom: Zaankanters\, Nieuwe Zaankanters\, Moslims\, Niet 
 Moslims\, Jong/Oud of je nu meedoet aan de Ramadan of niet. Wij zullen zor
 gen voor dadels en linzensoep en vragen bezoekers van de avond om zelf een
  (halal) hoofd- en/of bijgerecht mee te nemen. Zo wordt het echt een avond
  voor en van iedereen.\n\nhttps://zaansmuseum.nl/zien-doen/iftar/
CATEGORIES:Sociaal
LOCATION:Zaans Museum\, Schansend 7\, Zaandam\, 1509 AW\, Nederland
X-APPLE-STRUCTURED-LOCATION;VALUE=URI;X-ADDRESS=Schansend 7\, Zaandam\, 150
 9 AW\, Nederland;X-APPLE-RADIUS=100;X-TITLE=Zaans Museum:geo:0,0
END:VEVENT
BEGIN:VTIMEZONE
TZID:Europe/Amsterdam
X-LIC-LOCATION:Europe/Amsterdam
BEGIN:STANDARD
DTSTART:20241027T020000
TZOFFSETFROM:+0200
TZOFFSETTO:+0100
TZNAME:CET
END:STANDARD
END:VTIMEZONE
END:VCALENDAR