BEGIN:VCALENDAR
VERSION:2.0
PRODID:-//wp-events-plugin.com//7.2.3.1//EN
TZID:Europe/Amsterdam
X-WR-TIMEZONE:Europe/Amsterdam
BEGIN:VEVENT
UID:36768@agenda-zaanstreek.nl
DTSTART;TZID=Europe/Amsterdam:20250208T120000
DTEND;TZID=Europe/Amsterdam:20250209T170000
DTSTAMP:20250113T111722Z
URL:https://agenda-zaanstreek.nl/events/het-weefhuis-hembrugterrein-2003-2
 023/
SUMMARY:Het Weefhuis - Hembrugterrein 2003-2023
DESCRIPTION:\n\n\n\n\n\n\n&nbsp\;\n\n\n\n\nToen in 2003 Eurometaal het Hemb
 rugterrein verliet\, kreeg Gé Dubbelman toestemming om dit gebied te verk
 ennen en de geheimen ervan fotografisch in beeld te brengen. Met tussenpoz
 en heeft hij 20 jaar lang op dit terrein gewerkt. Hij kent het tot in de k
 leinste en verste hoekjes.\n\n\nHet resultaat van zijn omzwervingen in all
 e jaargetijden is nu een serie van in totaal ruim 600 foto’s. Geen aspec
 t van het terrein ontsnapte aan de camera: de schoonheid en de tragiek van
  het verval\, de restanten van in onbruik geraakte machines en gebouwen en
  de stille omarming van dat alles door de natuur. Voor&nbsp\;Gé Dubbelman
 &nbsp\;is dat het meest indrukwekkend: ‘Die stilte in een omgeving waar 
 vroeger bommen werden gemaakt’.\nEen deel van de serie werd eerder geëx
 poseerd op het Fotofestival van Naarden (2005) en in het Zaans Museum (200
 6).\nNu kunt u in Het Weefhuis een selectie zien van ongeveer 30 foto’s 
 van twee decennia Hembrugterrein. De afmetingen van de foto’s variëren 
 van 40×60 cm tot panorama’s in zeer groot formaat.\n\n\n\n
CATEGORIES:Erfgoed,Expositie
LOCATION:Het Weefhuis\, Lagedijk 39\, Zaandijk\, 1544 BB\, Nederland
X-APPLE-STRUCTURED-LOCATION;VALUE=URI;X-ADDRESS=Lagedijk 39\, Zaandijk\, 15
 44 BB\, Nederland;X-APPLE-RADIUS=100;X-TITLE=Het Weefhuis:geo:0,0
END:VEVENT
BEGIN:VTIMEZONE
TZID:Europe/Amsterdam
X-LIC-LOCATION:Europe/Amsterdam
BEGIN:STANDARD
DTSTART:20241027T020000
TZOFFSETFROM:+0200
TZOFFSETTO:+0100
TZNAME:CET
END:STANDARD
END:VTIMEZONE
END:VCALENDAR