BEGIN:VCALENDAR
VERSION:2.0
PRODID:-//wp-events-plugin.com//7.2.3.1//EN
TZID:Europe/Amsterdam
X-WR-TIMEZONE:Europe/Amsterdam
BEGIN:VEVENT
UID:35590@agenda-zaanstreek.nl
DTSTART;TZID=Europe/Amsterdam:20241221T130000
DTEND;TZID=Europe/Amsterdam:20241222T170000
DTSTAMP:20241218T135938Z
URL:https://agenda-zaanstreek.nl/events/het-weefhuis-brengt-een-hommage-aa
 n-pieter-groot/
SUMMARY:Het Weefhuis brengt een Hommage aan Pieter Groot
DESCRIPTION:\n\n\n\n\n\n&nbsp\;\n\n\n\n\n\n\nDe Zaanse kunstenaar\, vormgev
 er\, keramist\, fotograaf\, beeldhouwer\, typograaf en boekverzorger Piete
 r Groot werd 100 jaar geleden op het Vissershop in Zaandam geboren\, hij o
 verleed in 2013 in Westzaan. Als eerbetoon aan zijn veelzijdige werk is in
  het weekend van 21 en 22 december een overzichtstentoonstelling in het We
 efhuis in Zaandijk.\n\nHet werk van Pieter Groot is te omvangrijk en te ve
 elzijdig om in een paar zinnen te omschrijven. Pieter was onder meer beeld
 end kunstenaar\, grafisch vormgever\, keramist en beeldhouwer. Ook was hij
  docent aan de Rietveld Academie. Hij ontwikkelde zich tot een belangrijke
  boekontwerper en was ook vormgever van het spraakmakende blad Proost Prik
 kels.\n\nAls keramist kreeg hij vooral bekendheid door een serie speels en
  soms dramatisch vormgegeven varkens. In de jaren zestig was hij een aanta
 l jaren verantwoordelijk voor de aankleding van het Boekenbal. Pieter had 
 grote interesse in beide wereldoorlogen. Hij maakte verschillende mini-kan
 onnen van restmateriaal\, waaronder een kanon dat om een hoek kan schieten
 . Ook was hij lid van de Culturele Raad Westzaan die in de jaren ‘80 van
  de vorige eeuw bijzondere thematentoonstellingen organiseerde. In Westzaa
 n was hij ook enige jaren gemeenteraadslid voor Gemeentebelangen.&nbsp\;\n
 \nVoor de gemeente Zaanstad maakte Groot het monument voor de slachtoffers
  van de Tweede Wereldoorlog dat in de publiekshal van het Stadhuis staat 
 – het stond eerst in het Bannehof.\n\nGroot was ook een groot kenner en 
 verzamelaar van Jugendstil-keramiek. De grote Art Deco-collectie van Keram
 iekmuseum Princessehof in Leeuwarden is voor een groot deel door hem bijee
 ngebracht.&nbsp\;\n\nEén van de talloze boeken die Pieter Groot verzorgde
 \, was Zaanse Houtbouw\, waarvan hij de omslag versierde met gestapelde Za
 anse gevels. Het boek\, een uitgave van Stichting De Zaanse Schans uit 197
 6 belandde bij Sjoerd Soeters die het in 2001 kreeg van Wim Visser. Ook ee
 n medewerker van architect Wilfried van Winden kreeg het boek in handen. S
 oeters en Van Winden maakten later ruzie over wie het Inntel Hotel bedacht
  heeft. Maar één blik op de omslag van Zaanse Houtbouw maakt duidelijk w
 aar zij hun inspiratie vandaan hebben gehaald.\n\nOp de expositie zijn boe
 ken\, ‘prikkels’\, foto’s\, keramiek\, meubels\, laswerk\, schilderi
 jen\, grafisch werk\, foto’s en toegepast werk te zien dat vrijwel gehee
 l uit particuliere collecties afkomstig is.\n\nDe tentoonstelling is op 21
  en 22 december 2024 / dagelijks van 13:00 - 17:00 uur in Het Weefhuis\, Z
 aandijk.\n\n\n\n\n\n\n\n
CATEGORIES:Excursie
LOCATION:Het Weefhuis\, Lagedijk 39\, Zaandijk\, 1544 BB\, Nederland
X-APPLE-STRUCTURED-LOCATION;VALUE=URI;X-ADDRESS=Lagedijk 39\, Zaandijk\, 15
 44 BB\, Nederland;X-APPLE-RADIUS=100;X-TITLE=Het Weefhuis:geo:0,0
END:VEVENT
BEGIN:VTIMEZONE
TZID:Europe/Amsterdam
X-LIC-LOCATION:Europe/Amsterdam
BEGIN:STANDARD
DTSTART:20241027T020000
TZOFFSETFROM:+0200
TZOFFSETTO:+0100
TZNAME:CET
END:STANDARD
END:VTIMEZONE
END:VCALENDAR