BEGIN:VCALENDAR
VERSION:2.0
PRODID:-//wp-events-plugin.com//7.2.3.1//EN
TZID:Europe/Amsterdam
X-WR-TIMEZONE:Europe/Amsterdam
BEGIN:VEVENT
UID:35118@agenda-zaanstreek.nl
DTSTART;TZID=Europe/Amsterdam:20241109T100000
DTEND;TZID=Europe/Amsterdam:20241110T170000
DTSTAMP:20241106T102502Z
URL:https://agenda-zaanstreek.nl/events/het-weefhuis-aquarel-expositie-25-
 x-25-cm/
SUMMARY:Het Weefhuis - Aquarel Expositie 25 x 25 cm
DESCRIPTION:AQUAREL EXPOSITIE 25 x 25 cm\n&nbsp\;\n\n\nIWS Holland&nbsp\;is
  een stichting die is opgericht in 2015 onder de paraplu van de IWS (Inter
 national Watercolor Society). Meer dan 80 landen wereldwijd hebben zich de
  afgelopen jaren aangesloten bij deze organisatie. Ieder op zijn eigen man
 ier met zijn eigen cultuur.\nMet het zelfde doel:\n\n 	Het enthousiasme vo
 or de aquareltechniek met elkaar delen en te inspireren.\n\n\n 	De aquarel
 techniek onder de aandacht brengen bij een groter publiek.\n\n\n 	Elkaar a
 ls kunstenaar ontmoeten dmv van grote festivals\n\nDe aquareltechniek verd
 er ontwikkelen met hulp en ondersteuning van diverse branches\, o.a. Winso
 r &amp\; Newton (papier\, aquarelverf\, penselen)\, Daniel Smith (aquarelv
 erf) Baohong papier\, Escoda penselen\, en nog heel wat meer branches\, ma
 ar genoemde zijn de belangrijkste sponsoren van IWS Holland.\n\nIn het Wee
 fhuis exposeren zo’n 60 leden van IWS Holland hun werk. De expositie zal
  een iets andere vorm krijgen dan men van ons gewend is. Iedere exposant i
 s vertegenwoordigd met 2 werken in een lijstje van 25 x 25 cm.\n\nVariatie
 \nOp deze manier zult u kunnen genieten van nog meer variatie en is wellic
 ht de drempel lager om eens een mooi en origineel kunstwerkje aan te schaf
 fen. Alle werkjes zijn speciaal voor deze expositie vervaardigd en te koop
 .\n\nDemo’s\nTijdens de expositie zullen er ook demo’s gegeven worden 
 door een aantal van onze beste aquarellisten. Zo kun je als bezoeker een k
 ijkje in de keuken van de aquarel krijgen\, wat nat in nat schilderen inho
 udt en hoe de kunstenaar een mooie “wassing ”aanbrengt.\n\n
CATEGORIES:Expositie
LOCATION:Het Weefhuis\, Lagedijk 39\, Zaandijk\, 1544 BB\, Nederland
X-APPLE-STRUCTURED-LOCATION;VALUE=URI;X-ADDRESS=Lagedijk 39\, Zaandijk\, 15
 44 BB\, Nederland;X-APPLE-RADIUS=100;X-TITLE=Het Weefhuis:geo:0,0
END:VEVENT
BEGIN:VTIMEZONE
TZID:Europe/Amsterdam
X-LIC-LOCATION:Europe/Amsterdam
BEGIN:STANDARD
DTSTART:20241027T020000
TZOFFSETFROM:+0200
TZOFFSETTO:+0100
TZNAME:CET
END:STANDARD
END:VTIMEZONE
END:VCALENDAR