BEGIN:VCALENDAR
VERSION:2.0
PRODID:-//wp-events-plugin.com//7.2.3.1//EN
TZID:Europe/Amsterdam
X-WR-TIMEZONE:Europe/Amsterdam
BEGIN:VEVENT
UID:39051@agenda-zaanstreek.nl
DTSTART;TZID=Europe/Amsterdam:20250614T110000
DTEND;TZID=Europe/Amsterdam:20250614T180000
DTSTAMP:20250605T100704Z
URL:https://agenda-zaanstreek.nl/events/het-warenhuis-atelierdorp-achter-h
 et-hemlab/
SUMMARY:Het Warenhuis! Atelierdorp achter het Hemlab!
DESCRIPTION:Op zaterdag 14 juni openen diverse ateliers hun deuren – van 
 beeldende kunst en design tot productontwerp\, meubelmakers en ambachtslie
 den. Naast de open ateliers is er ook een levendige buitenmarkt én een sp
 eciaal samengestelde expo met unieke kunst- en designobjecten.\nBuiten is 
 er een gezellige markt met kunst\, vintage en ambacht\, foodstands van onz
 e eigen makers\, live muziek en kleine performances. Strijk neer op het te
 rras van&nbsp\;La Cantina&nbsp\;voor heerlijke vegan gerechten en een onts
 pannen sfeer.\n\nZa 14 jun 11.00-18.00&nbsp\;u\nIn onze rauwe industriële
  loods vind je ons atelierdorp met meer dan 200 ateliers.\n\n\nOp zaterdag
  14 juni gooien diverse ateliers hun deuren open – van beeldende kunst e
 n design tot productontwerp\, meubelmakers en ambachtslieden. Naast de ope
 n ateliers is er ook een levendige buitenmarkt én een speciaal samengeste
 lde expo met unieke kunst- en designobjecten:&nbsp\;Het Warenhuis Expo.\n\
 n
CATEGORIES:Markt Braderie
LOCATION:Maakgemeenschap De Hoop\, Barndegat 6-8\, Zaandam\, 1505 HN\, Nede
 rland
X-APPLE-STRUCTURED-LOCATION;VALUE=URI;X-ADDRESS=Barndegat 6-8\, Zaandam\, 1
 505 HN\, Nederland;X-APPLE-RADIUS=100;X-TITLE=Maakgemeenschap De Hoop:geo:
 0,0
END:VEVENT
BEGIN:VTIMEZONE
TZID:Europe/Amsterdam
X-LIC-LOCATION:Europe/Amsterdam
BEGIN:DAYLIGHT
DTSTART:20250330T030000
TZOFFSETFROM:+0100
TZOFFSETTO:+0200
TZNAME:CEST
END:DAYLIGHT
END:VTIMEZONE
END:VCALENDAR