BEGIN:VCALENDAR
VERSION:2.0
PRODID:-//wp-events-plugin.com//7.2.3.1//EN
TZID:Europe/Amsterdam
X-WR-TIMEZONE:Europe/Amsterdam
BEGIN:VEVENT
UID:36221@agenda-zaanstreek.nl
DTSTART;TZID=Europe/Amsterdam:20250205T203000
DTEND;TZID=Europe/Amsterdam:20250205T203000
DTSTAMP:20241205T110716Z
URL:https://agenda-zaanstreek.nl/events/het-beste-van-ierse-muziek-en-cult
 uur-the-kings-of-connaught/
SUMMARY:Het beste van Ierse muziek en cultuur - The Kings of Connaught
DESCRIPTION:Multi-instrumentalisten The Kings of Connaught\, groeiden op in
  het westen van Ierland\, doordrenkt van de traditie van Ierse muziek. Dez
 e jonge gasten hebben een doel\; het erfgoed en de cultuur van Ierse balla
 des levend te houden. Ze zijn door critici omschreven als "opwindende jong
 e balladezangers die met een rauwheid en emotie zingen die alleen te verge
 lijken is met het zingen van The Dubliners".\n\n\n\n\nSinds hun oprichting
  in 2012 hebben The Kings of Connaught uitgebreid opgetreden in toonaangev
 ende locaties in heel Ierland en het Verenigd Koninkrijk\, en hebben ze to
 t nu toe twee studioalbums uitgebracht. Een nummer in het bijzonder\, "The
  Rocky Road to Dublin"\, heeft de aandacht getrokken van meer dan 8\,5 mil
 joen kijkers over de hele wereld.\n\n\n\n
CATEGORIES:Muziek
LOCATION:Zaantheater\, Nicolaasstraat 3\, Zaandam\, 1506 BB\, Nederland
X-APPLE-STRUCTURED-LOCATION;VALUE=URI;X-ADDRESS=Nicolaasstraat 3\, Zaandam\
 , 1506 BB\, Nederland;X-APPLE-RADIUS=100;X-TITLE=Zaantheater:geo:0,0
END:VEVENT
BEGIN:VTIMEZONE
TZID:Europe/Amsterdam
X-LIC-LOCATION:Europe/Amsterdam
BEGIN:STANDARD
DTSTART:20241027T020000
TZOFFSETFROM:+0200
TZOFFSETTO:+0100
TZNAME:CET
END:STANDARD
END:VTIMEZONE
END:VCALENDAR