BEGIN:VCALENDAR
VERSION:2.0
PRODID:-//wp-events-plugin.com//7.2.3.1//EN
TZID:Europe/Amsterdam
X-WR-TIMEZONE:Europe/Amsterdam
BEGIN:VEVENT
UID:40724@agenda-zaanstreek.nl
DTSTART;TZID=Europe/Amsterdam:20260110T101500
DTEND;TZID=Europe/Amsterdam:20260110T113000
DTSTAMP:20251125T104933Z
URL:https://agenda-zaanstreek.nl/events/hemlab-proefles-cursus-licht-gelui
 d-water-golven-8-12-jaar-2/
SUMMARY:Hemlab Proefles Cursus: Licht geluid water golven! 8-12 jaar
DESCRIPTION:\n\nGa mee op avontuur in de wereld van de golven en straling. 
 De zon\, verwarming\, magnetron en alle mensen stralen allemaal EM-stralin
 g uit. Wat is dat\, kan je het meten en zelf maken? Golft water\, geluid e
 n licht op dezelfde manier? Je ontdekt het allemaal in het Hemlab. Je meet
  en berekent de snelheid van jezelf\, van geluid en licht. Je ontdekt wat 
 een stemvork is\, je maakt lawaaiige muziekinstrumenten\, ontrafeld licht 
 en je maakt kleurige vlammen. Ben je een echte onderzoeker? Doe dan mee me
 t deze cursus.\n\nCursus donderdagmiddag\n● Start donderdag 8 jan 2026 v
 an 15.45 tot 17.00 uur\n● Kind 8-12 jaar\, 10 weken\n\nCursus zaterdagoc
 htend\n● Start zaterdag 10 jan 2026 van 10.15 tot 11.30 uur\n● Kind 8-
 12 jaar\, 10 weken\n\nProefles cursus\n● Donderdag 8 jan\n● Zaterdag 1
 0 jan\n\n
CATEGORIES:Cursus Workshop,Jeugd
LOCATION:HEMLAB - Jeugdlab Zaandam\, Barndegat 6-8\, Zaandam\, 1505 HN\, Ne
 derland
X-APPLE-STRUCTURED-LOCATION;VALUE=URI;X-ADDRESS=Barndegat 6-8\, Zaandam\, 1
 505 HN\, Nederland;X-APPLE-RADIUS=100;X-TITLE=HEMLAB - Jeugdlab Zaandam:ge
 o:0,0
END:VEVENT
BEGIN:VTIMEZONE
TZID:Europe/Amsterdam
X-LIC-LOCATION:Europe/Amsterdam
BEGIN:STANDARD
DTSTART:20251026T020000
TZOFFSETFROM:+0200
TZOFFSETTO:+0100
TZNAME:CET
END:STANDARD
END:VTIMEZONE
END:VCALENDAR