BEGIN:VCALENDAR
VERSION:2.0
PRODID:-//wp-events-plugin.com//7.2.3.1//EN
TZID:Europe/Amsterdam
X-WR-TIMEZONE:Europe/Amsterdam
BEGIN:VEVENT
UID:35255@agenda-zaanstreek.nl
DTSTART;TZID=Europe/Amsterdam:20241130T150000
DTEND;TZID=Europe/Amsterdam:20241130T170000
DTSTAMP:20241016T093310Z
URL:https://agenda-zaanstreek.nl/events/hemlab-helaas-speculaas-7-14-jaar-
 2/
SUMMARY:Hemlab - Helaas Speculaas! 7-14 jaar
DESCRIPTION:Tickets\n\n\nAlarm\, er wordt weer nep-speculaas verkocht! Help
  je mee om uit te vinden welk speculaas echt of nep is. Is het lekkerste s
 peculaas wel gemaakt met amandelen? In het speciale Sint-Test-Lab kan je o
 ok roet maken en en pepernoten bakken.\nWil je weten of je thuis echte gev
 ulde speculaas\, banketstaaf of gevulde koeken eet? Neem dan een stukje me
 e om te testen!\n\nZaterdag 23 november 2024 15.00-17.00 uur\nZaterdag 30 
 november 2024 15.00-17.00 uur\n\n
CATEGORIES:Cursus Workshop,Jeugd
LOCATION:HEMLAB - Jeugdlab Zaandam\, Barndegat 6-8\, Zaandam\, 1505 HN\, Ne
 derland
X-APPLE-STRUCTURED-LOCATION;VALUE=URI;X-ADDRESS=Barndegat 6-8\, Zaandam\, 1
 505 HN\, Nederland;X-APPLE-RADIUS=100;X-TITLE=HEMLAB - Jeugdlab Zaandam:ge
 o:0,0
END:VEVENT
BEGIN:VTIMEZONE
TZID:Europe/Amsterdam
X-LIC-LOCATION:Europe/Amsterdam
BEGIN:STANDARD
DTSTART:20241027T020000
TZOFFSETFROM:+0200
TZOFFSETTO:+0100
TZNAME:CET
END:STANDARD
END:VTIMEZONE
END:VCALENDAR