BEGIN:VCALENDAR
VERSION:2.0
PRODID:-//wp-events-plugin.com//7.2.3.1//EN
TZID:Europe/Amsterdam
X-WR-TIMEZONE:Europe/Amsterdam
BEGIN:VEVENT
UID:40385@agenda-zaanstreek.nl
DTSTART;TZID=Europe/Amsterdam:20251017T200000
DTEND;TZID=Europe/Amsterdam:20251018T200000
DTSTAMP:20251009T092459Z
URL:https://agenda-zaanstreek.nl/events/hans-teeuwen-de-laffe-verlosser/
SUMMARY:Hans Teeuwen - De Laffe Verlosser
DESCRIPTION:\n\n\n\n\n&nbsp\;\n\n\n\n\n\n\n&nbsp\;\n\n\n\n\n\n\nDe nieuwe s
 how van Hans Teeuwen is precies wat de wereld nodig heeft. Een vrolijke sh
 ow vol wijsheid en nuttige tips voor mensen die volledig zijn vastgelopen 
 door negatieve denk- en eetpatronen. Een wedergeboorte zonder uitscheuring
 . Een wake-up call zonder dat je per se je bed uit hoeft. Allemaal mogelij
 k gemaakt door de laffe verlosser!\n\n\n\n\n
CATEGORIES:Cabaret
LOCATION:Zaantheater\, Nicolaasstraat 3\, Zaandam\, 1506 BB\, Nederland
X-APPLE-STRUCTURED-LOCATION;VALUE=URI;X-ADDRESS=Nicolaasstraat 3\, Zaandam\
 , 1506 BB\, Nederland;X-APPLE-RADIUS=100;X-TITLE=Zaantheater:geo:0,0
END:VEVENT
BEGIN:VTIMEZONE
TZID:Europe/Amsterdam
X-LIC-LOCATION:Europe/Amsterdam
BEGIN:DAYLIGHT
DTSTART:20250330T030000
TZOFFSETFROM:+0100
TZOFFSETTO:+0200
TZNAME:CEST
END:DAYLIGHT
END:VTIMEZONE
END:VCALENDAR