BEGIN:VCALENDAR
VERSION:2.0
PRODID:-//wp-events-plugin.com//7.2.3.1//EN
TZID:Europe/Amsterdam
X-WR-TIMEZONE:Europe/Amsterdam
BEGIN:VEVENT
UID:37540@agenda-zaanstreek.nl
DTSTART;TZID=Europe/Amsterdam:20250303T134500
DTEND;TZID=Europe/Amsterdam:20250303T154500
DTSTAMP:20250227T101838Z
URL:https://agenda-zaanstreek.nl/events/handwerkclub-bij-dirk-prins/
SUMMARY:Handwerkclub bij Dirk Prins
DESCRIPTION:\n\n&nbsp\;Op maandagmiddag van 13.45-15.45 uur komt bij wijkce
 ntrum Dirk Prins om de week de Handwerk Hobbyclub bij elkaar. &nbsp\;Er is
  weer plaats voor handwerksters &nbsp\;die het leuk vinden om gezamenlijk 
 hun hobby uit te oefenen\, zoals borduren\, haken\, breien\, quilten en no
 em maar op. Dit alles onder begeleiding van een ervaren handwerkster. Het 
 is een creatieve én gezellige middag in een vrolijke ruimte.&nbsp\;\n\n\n
 \n\nKosten toelichting\n20\,= euro voor 3 maanden\, zelf materiaal meeneme
 n\n\nDoelgroep\nAlle volwassenen\n\n
CATEGORIES:Sociaal
LOCATION:Wijkcentrum Dirk Prins\, A.G. Verbeekstraat 35\, Zaandam\, 1501 RM
 \, Nederland
X-APPLE-STRUCTURED-LOCATION;VALUE=URI;X-ADDRESS=A.G. Verbeekstraat 35\, Zaa
 ndam\, 1501 RM\, Nederland;X-APPLE-RADIUS=100;X-TITLE=Wijkcentrum Dirk Pri
 ns:geo:0,0
END:VEVENT
BEGIN:VTIMEZONE
TZID:Europe/Amsterdam
X-LIC-LOCATION:Europe/Amsterdam
BEGIN:STANDARD
DTSTART:20241027T020000
TZOFFSETFROM:+0200
TZOFFSETTO:+0100
TZNAME:CET
END:STANDARD
END:VTIMEZONE
END:VCALENDAR