BEGIN:VCALENDAR
VERSION:2.0
PRODID:-//wp-events-plugin.com//7.2.3.1//EN
TZID:Europe/Amsterdam
X-WR-TIMEZONE:Europe/Amsterdam
BEGIN:VEVENT
UID:39145@agenda-zaanstreek.nl
DTSTART;TZID=Europe/Amsterdam:20250719T133000
DTEND;TZID=Europe/Amsterdam:20250720T230000
DTSTAMP:20250703T094736Z
URL:https://agenda-zaanstreek.nl/events/haltpop-2025/
SUMMARY:Haltpop 2025
DESCRIPTION:\n\n\n&nbsp\;\n\n\n\n&nbsp\;\n\n\n\n\n\n&nbsp\;\n\n\n\n\n 	Tick
 ets\n\n\n\n\n\n\n**Haltpop is op weg naar een denderende verjaardagseditie
  in 2025. Ook dit jaar ondersteunt podium DE FLUX het festival door bij te
  dragen aan de lokale programmering. **\n\n** Line-up dag 1**\nThe upsessi
 ons\nDesert colossus\nNas drovje\nRelics\nLorena + The Tide\nEurydice\nOud
 e Mannen DJ Team\nThe Metal Jam\n\n\n\n\nLine-up dag 2\nZeke\nSave Ferris\
 nBabylon Circus\nPunk Rock Factory\nAuthority Zero\nRamkot\nFaintest Idea\
 n\n\n\n\n\n&nbsp\;\n\n\n\n\n
CATEGORIES:Muziek
LOCATION:Topsportcentrum De Koog\, Wezelstraat 7\, Koog aan de Zaan\, 1541 
 LZ\, Nederland
X-APPLE-STRUCTURED-LOCATION;VALUE=URI;X-ADDRESS=Wezelstraat 7\, Koog aan de
  Zaan\, 1541 LZ\, Nederland;X-APPLE-RADIUS=100;X-TITLE=Topsportcentrum De 
 Koog:geo:0,0
END:VEVENT
BEGIN:VTIMEZONE
TZID:Europe/Amsterdam
X-LIC-LOCATION:Europe/Amsterdam
BEGIN:DAYLIGHT
DTSTART:20250330T030000
TZOFFSETFROM:+0100
TZOFFSETTO:+0200
TZNAME:CEST
END:DAYLIGHT
END:VTIMEZONE
END:VCALENDAR