BEGIN:VCALENDAR
VERSION:2.0
PRODID:-//wp-events-plugin.com//7.2.3.1//EN
TZID:Europe/Amsterdam
X-WR-TIMEZONE:Europe/Amsterdam
BEGIN:VEVENT
UID:38089@agenda-zaanstreek.nl
DTSTART;TZID=Europe/Amsterdam:20250412T130000
DTEND;TZID=Europe/Amsterdam:20250413T170000
DTSTAMP:20250403T080048Z
URL:https://agenda-zaanstreek.nl/events/haal-de-in-zaan-huis-en-help-zaand
 am-nog-mooier-te-maken/
SUMMARY:Haal de in Zaan huis en help Zaandam nog mooier te maken!
DESCRIPTION:\n\nDe tentoonstelling STROOM\, de Zaan in beweging\, was met m
 eer dan 50.000 bezoekers in het Zaans Museum een groot succes. Aan de hand
  van 125 foto's op en langs de Zaan\, toonden fotografen Bert Verhoeff en 
 David Galjaard de veranderingen in het oudste industriegebied van Europa: 
 de Zaanstreek. Deze museale afdrukken zijn nu eenmalig te koop\, voor een 
 kleine prijs. Een kwart van de opbrengst gaat naar Monet in Street Art: re
 usachtige muurschilderingen gebaseerd op de 25 schilderijen die de wereldb
 eroemde impressionist in Zaandam maakte. Er pronken inmiddels 12 schilderi
 ngen door de hele stad\, maar er is meer geld nodig om de collectie comple
 et te maken. Help Zaandam nog mooier te maken!\n\nOp veel plekken in Neder
 land zien we het landschap wezenlijk veranderen: industrie trekt zich teru
 g\, bewoning en recreatie rukken op. Fotografen Verhoeff en Galjaard laten
  de veranderingen zien in het oudste industriegebied van Europa. Met deze 
 foto’s tonen beide fotografen een spannend tijdsbeeld van een streek in 
 ontwikkeling. Sociale woningbouw naast torenhoge silo’s\, badpakken rond
 om oude voedselfabrieken\, recreatievaart tussen meterslange platbodems. D
 aarnaast portretteerden ze oude en nieuwe bewoners van de streek.\n\nHet f
 otoboek Stroom. De Zaan in beweging. volgt de wandeling langs de Zaan van 
 Verhoeff en Galjaard\, van noord naar zuid\, van Westknollendam tot Zaanda
 m. Een inleidend essay van Alkemade en observerende teksten van Verhoeff v
 oorzien de foto’s van context. De lezer wordt deelgenoot van de ervaring
 en van de fotografen. Het boek is een uitgave van Uitgeverij Noord-Holland
  en het Zaans Museum. Dit boek is tijdens de expositie voor een speciale p
 rijs te koop.\n\nDe verkoopexpositie Stroom. De Zaan in beweging. vindt pl
 aats op zaterdag 12 en zondag 13 april – 13.00 – 17.00 uur – vrij en
 tree.
CATEGORIES:Expositie
LOCATION:Zaans Groen\, Zeemansstraat 54\, Zaandam\, 1506 CV\, Nederland
X-APPLE-STRUCTURED-LOCATION;VALUE=URI;X-ADDRESS=Zeemansstraat 54\, Zaandam\
 , 1506 CV\, Nederland;X-APPLE-RADIUS=100;X-TITLE=Zaans Groen:geo:0,0
END:VEVENT
BEGIN:VTIMEZONE
TZID:Europe/Amsterdam
X-LIC-LOCATION:Europe/Amsterdam
BEGIN:DAYLIGHT
DTSTART:20250330T030000
TZOFFSETFROM:+0100
TZOFFSETTO:+0200
TZNAME:CEST
END:DAYLIGHT
END:VTIMEZONE
END:VCALENDAR