BEGIN:VCALENDAR
VERSION:2.0
PRODID:-//wp-events-plugin.com//7.2.3.1//EN
TZID:Europe/Amsterdam
X-WR-TIMEZONE:Europe/Amsterdam
BEGIN:VEVENT
UID:37097@agenda-zaanstreek.nl
DTSTART;TZID=Europe/Amsterdam:20250302T100000
DTEND;TZID=Europe/Amsterdam:20250302T153000
DTSTAMP:20250130T111053Z
URL:https://agenda-zaanstreek.nl/events/gruttos-en-weidevogels-bij-fort-kr
 ommeniedijk/
SUMMARY:Grutto's en weidevogels bij Fort Krommeniedijk
DESCRIPTION:\nzo. 2 maart 2025 - 10:00 &nbsp\;tot&nbsp\; 15:30 \nVertrekpun
 t\n\n\n\n\n\nFort K'IJK\nLagendijk 22\n1911 MT Uitgeest\n\n\nMeer praktisc
 he informatie\n
CATEGORIES:Excursie
LOCATION:Fort K'ijk bij Krommeniedijk\, Lagendijk 22\, Uitgeest\, 1911 MT\,
  Nederland
X-APPLE-STRUCTURED-LOCATION;VALUE=URI;X-ADDRESS=Lagendijk 22\, Uitgeest\, 1
 911 MT\, Nederland;X-APPLE-RADIUS=100;X-TITLE=Fort K'ijk bij Krommeniedijk
 :geo:0,0
END:VEVENT
BEGIN:VTIMEZONE
TZID:Europe/Amsterdam
X-LIC-LOCATION:Europe/Amsterdam
BEGIN:STANDARD
DTSTART:20241027T020000
TZOFFSETFROM:+0200
TZOFFSETTO:+0100
TZNAME:CET
END:STANDARD
END:VTIMEZONE
END:VCALENDAR