BEGIN:VCALENDAR
VERSION:2.0
PRODID:-//wp-events-plugin.com//7.2.3.1//EN
TZID:Europe/Amsterdam
X-WR-TIMEZONE:Europe/Amsterdam
BEGIN:VEVENT
UID:38710@agenda-zaanstreek.nl
DTSTART;TZID=Europe/Amsterdam:20250523T180000
DTEND;TZID=Europe/Amsterdam:20250523T180000
DTSTAMP:20250515T093009Z
URL:https://agenda-zaanstreek.nl/events/grote-veiling-bij-kfc-inclusief-ge
 zellige-amsterdamse-avond/
SUMMARY:Grote veiling bij KFC inclusief gezellige Amsterdamse avond
DESCRIPTION:Een gesigneerd shirt van AJAX speler Hato\, VIP kaarten voor de
  GP lounge AZ\, een verjaardagstaart\, een plek aan de VIP tafel van het K
 FC kerstgala\, kaarten voor het klimpark Twiske en zelfs backstage kaarten
  voor Kris Kross Amsterdam\; de ‘kavels’ die op 23 mei onder de veilin
 ghamer gaan bij KFC 1910 liegen er niet om. De Koogse voetbalclub houdt vo
 or de eerste keer een veiling waarvan de opbrengst ten gunste komt van de 
 vereniging met velden aan de Wezelstraat.&nbsp\;\nLees verder bij Rodi
CATEGORIES:Recreatiesport
LOCATION:Sportpark De Koog\, Wezelstraat 19\, Koog aan de Zaan\, 1541 LZ\, 
 Nederland
X-APPLE-STRUCTURED-LOCATION;VALUE=URI;X-ADDRESS=Wezelstraat 19\, Koog aan d
 e Zaan\, 1541 LZ\, Nederland;X-APPLE-RADIUS=100;X-TITLE=Sportpark De Koog:
 geo:0,0
END:VEVENT
BEGIN:VTIMEZONE
TZID:Europe/Amsterdam
X-LIC-LOCATION:Europe/Amsterdam
BEGIN:DAYLIGHT
DTSTART:20250330T030000
TZOFFSETFROM:+0100
TZOFFSETTO:+0200
TZNAME:CEST
END:DAYLIGHT
END:VTIMEZONE
END:VCALENDAR