BEGIN:VCALENDAR
VERSION:2.0
PRODID:-//wp-events-plugin.com//7.2.3.1//EN
TZID:Europe/Amsterdam
X-WR-TIMEZONE:Europe/Amsterdam
BEGIN:VEVENT
UID:37342@agenda-zaanstreek.nl
DTSTART;TZID=Europe/Amsterdam:20251231T213000
DTEND;TZID=Europe/Amsterdam:20251231T213000
DTSTAMP:20250213T130309Z
URL:https://agenda-zaanstreek.nl/events/groot-oudjaarsfeest-2025/
SUMMARY:Groot Oudjaarsfeest 2025
DESCRIPTION:\n\n\n\n\n\n\n\n\n\n\n\n\n\n\n\n\n\n\n\n\n\n\n\n\nOp 31 decembe
 r organiseren wij een groot Oudjaarsfeest. Compleet met drankjes\, hapjes\
 , oliebollen\, glitters\, discobal en een fantastische coverband: The Tele
 phones met zangeres Amanda Muller.\n\nKom het jaar uitluiden in een superg
 ezellige Bullekerk en feest met ons het nieuwe jaar in. Wij hebben er weer
  zin in! Jullie ook?\n\nLine-up:\nAmanda Muller (zang)\nCharl Kruijer (git
 aar)\nAuke Haaksma (bas)\nSander van Wonderen (toetsen)\nJoeri de Jong (dr
 ums)\n\nDresscode: chic\n\nDeuren open: 20:30 uur\nAanvang: 21:30 uur\n\nT
 ickets: € 40 (+ € 2 reserveringskosten)\n\nDe toegangsprijs is inclusi
 ef oliebollen\, hapjes en een glas bubbels rond de jaarwisseling. Drankjes
  zijn voor eigen rekening.\n\n\n\n\n\n\n\n\n\n\n\nKoop tickets\n\n\n\n\n\n
 \n\n\n\n\n\n&nbsp\;\n\n\n\n\n\n\n\n\n\n\n\n\n\n\n\n\n\n\n 	\n\nStartdatum\
 n31/12/2025 21:30\n\n 	\n\nEinddatum\n01/01/2026 01:30\n\n\n\n\n\n\n\n\n\n
CATEGORIES:Muziek
LOCATION:Cultureel Centrum Bullekerk (Westzijderkerk)\, Westzijde 75\, Zaan
 dam\, 1506 ED\, Nederland
X-APPLE-STRUCTURED-LOCATION;VALUE=URI;X-ADDRESS=Westzijde 75\, Zaandam\, 15
 06 ED\, Nederland;X-APPLE-RADIUS=100;X-TITLE=Cultureel Centrum Bullekerk (
 Westzijderkerk):geo:0,0
END:VEVENT
BEGIN:VTIMEZONE
TZID:Europe/Amsterdam
X-LIC-LOCATION:Europe/Amsterdam
BEGIN:STANDARD
DTSTART:20251026T020000
TZOFFSETFROM:+0200
TZOFFSETTO:+0100
TZNAME:CET
END:STANDARD
END:VTIMEZONE
END:VCALENDAR