BEGIN:VCALENDAR
VERSION:2.0
PRODID:-//wp-events-plugin.com//7.2.3.1//EN
TZID:Europe/Amsterdam
X-WR-TIMEZONE:Europe/Amsterdam
BEGIN:VEVENT
UID:35909@agenda-zaanstreek.nl
DTSTART;TZID=Europe/Amsterdam:20241211T140000
DTEND;TZID=Europe/Amsterdam:20241211T160000
DTSTAMP:20241121T095953Z
URL:https://agenda-zaanstreek.nl/events/gratis-introductieworkshop-geweldl
 oze-communicatie/
SUMMARY:Gratis introductieworkshop Geweldloze Communicatie
DESCRIPTION:Op woensdag 11 december van 14.00 tot 16.00 uur biedt Cordelia 
 Addison een een gratis introductieworkshop Geweldloze Communicatie aan in 
 De Bres.\nIn deze interactieve sessie ontdekken de deelnemers hoe ze kunne
 n communiceren zonder oordeel\, schuld of kritiek\, zodat gesprekken opene
 r en prettiger verlopen. Ze doen praktische oefeningen waarmee je zowel na
 ar anderen als naar jezelf op een meer begripvolle en verbindende manier l
 eert luisteren en spreken. Inschrijven via de site: www.heartincommunicati
 on.com/courses
CATEGORIES:Cursus Workshop
LOCATION:Buurtvereniging De Bres\, dr Snijderstraat 2A\, Oostzaan\, 1511 VJ
 \, Nederland
X-APPLE-STRUCTURED-LOCATION;VALUE=URI;X-ADDRESS=dr Snijderstraat 2A\, Oostz
 aan\, 1511 VJ\, Nederland;X-APPLE-RADIUS=100;X-TITLE=Buurtvereniging De Br
 es:geo:0,0
END:VEVENT
BEGIN:VTIMEZONE
TZID:Europe/Amsterdam
X-LIC-LOCATION:Europe/Amsterdam
BEGIN:STANDARD
DTSTART:20241027T020000
TZOFFSETFROM:+0200
TZOFFSETTO:+0100
TZNAME:CET
END:STANDARD
END:VTIMEZONE
END:VCALENDAR