BEGIN:VCALENDAR
VERSION:2.0
PRODID:-//wp-events-plugin.com//7.2.3.1//EN
TZID:Europe/Amsterdam
X-WR-TIMEZONE:Europe/Amsterdam
BEGIN:VEVENT
UID:38868@agenda-zaanstreek.nl
DTSTART;TZID=Europe/Amsterdam:20250629T120000
DTEND;TZID=Europe/Amsterdam:20250629T160000
DTSTAMP:20250524T080204Z
URL:https://agenda-zaanstreek.nl/events/gluren-in-westzaan-duo-halff-van-d
 uijne/
SUMMARY:Gluren in Westzaan: Duo Halff & van Duijne
DESCRIPTION:Gluren bij de Buren is een amateurkunstenfestival dat in 2025 i
 n zestig gemeenten verspreid over Nederland plaatsvindt. Huiskamers en tui
 nen veranderen dan in kleine podia.\nEen artiest of ensemble speelt een aa
 ntal malen een programma van ongeveer een halfuur. De Zuidervermaning is n
 atuurlijk niet de enige locatie in de buurt waar optredens plaatsvinden. B
 ezoekers wandelen of fietsen van locatie naar locatie\, zo maken zij kenni
 s met buurtgenoten én lokaal talent. Er is geen entreebewijs nodig\, maar
  een vrijwillige bijdrage is gewenst.\n\nDuo Halff &amp\; van Duijne spele
 n en zingen eigen nummers. De Nederlandstalige nummers gaan over het van a
 lles en nog wat\, genoeg voor een half uur lekker luisteren naar mooie muz
 iek en teksten met een vleugje cabaret. Zij begeleiden zich op twee klassi
 eke gitaren. Kom vooral kijken en luisteren!\n\nZuidervermaning Westzaan\,
  zondag 29 juni tussen 12.00 en 16.00 uur. Zie voor het gehele programma d
 e website glurenbijdeburen.nl
CATEGORIES:Muziek
LOCATION:Zuidervermaning Westzaan\, Zuideinde 233\, Westzaan\, 1551 EG\, Ne
 derland
X-APPLE-STRUCTURED-LOCATION;VALUE=URI;X-ADDRESS=Zuideinde 233\, Westzaan\, 
 1551 EG\, Nederland;X-APPLE-RADIUS=100;X-TITLE=Zuidervermaning Westzaan:ge
 o:0,0
END:VEVENT
BEGIN:VTIMEZONE
TZID:Europe/Amsterdam
X-LIC-LOCATION:Europe/Amsterdam
BEGIN:DAYLIGHT
DTSTART:20250330T030000
TZOFFSETFROM:+0100
TZOFFSETTO:+0200
TZNAME:CEST
END:DAYLIGHT
END:VTIMEZONE
END:VCALENDAR