BEGIN:VCALENDAR
VERSION:2.0
PRODID:-//wp-events-plugin.com//7.2.3.1//EN
TZID:Europe/Amsterdam
X-WR-TIMEZONE:Europe/Amsterdam
BEGIN:VEVENT
UID:33889@agenda-zaanstreek.nl
DTSTART;TZID=Europe/Amsterdam:20241116T130000
DTEND;TZID=Europe/Amsterdam:20241117T170000
DTSTAMP:20241106T102235Z
URL:https://agenda-zaanstreek.nl/events/gert-engels/
SUMMARY:Gert Engels
DESCRIPTION:\nOp zaterdag 16 en zondag 17 november opent Zaansgroen haar de
 uren voor een unieke overzichtstentoonstelling van de veelzijdige kunstena
 ar Gert Engels (1952-2017). Precies zeven jaar na zijn overlijden worden z
 ijn sieraden\, schilderijen en collages geëxposeerd\, waarin hij speelde 
 met de spanning tussen architectonische en organische vormen.\n\nGert\, op
 geleid aan de Rietveld Academie en sinds 1990 professioneel kunstenaar\, e
 xposeerde eerder in zowel de Zaanstreek als in internationale steden als N
 ew York en Tokyo. Zijn werk\, bekend om zijn monumentale uitstraling en ex
 perimentele vormen\, beweegt zich tussen autonome en toegepaste kunst.\n\n
 Tijdens de expositie kunnen bezoekers kunstwerken en sieraden kopen. Aan h
 et einde van het weekend volgt een veiling van de overgebleven stukken\, w
 at deze expositie extra bijzonder maakt. Zondagmiddag om 15.30u zal er een
  veiling worden gehouden van het nog niet verkochte werk door veilingmeest
 er Jan de Bruin.\n\nBezoek deze bijzondere tentoonstelling en ontdek het u
 nieke oeuvre van Gert Engels. De expositie met sieraden en schilderijen vi
 ndt plaats op zaterdag 16 en zondag 17 november 2024 – 13.00-17.00 – v
 rij entree.\nDe expositie met sieraden en schilderijen van Gert Engels vin
 dt plaats op zaterdag 16 en zondag 17 november 2024 – 13.00-17.00 – vr
 ij entree.\n
CATEGORIES:Expositie
LOCATION:Zaans Groen\, Zeemansstraat 54\, Zaandam\, 1506 CV\, Nederland
X-APPLE-STRUCTURED-LOCATION;VALUE=URI;X-ADDRESS=Zeemansstraat 54\, Zaandam\
 , 1506 CV\, Nederland;X-APPLE-RADIUS=100;X-TITLE=Zaans Groen:geo:0,0
END:VEVENT
BEGIN:VTIMEZONE
TZID:Europe/Amsterdam
X-LIC-LOCATION:Europe/Amsterdam
BEGIN:STANDARD
DTSTART:20241027T020000
TZOFFSETFROM:+0200
TZOFFSETTO:+0100
TZNAME:CET
END:STANDARD
END:VTIMEZONE
END:VCALENDAR