BEGIN:VCALENDAR
VERSION:2.0
PRODID:-//wp-events-plugin.com//7.2.3.1//EN
TZID:Europe/Amsterdam
X-WR-TIMEZONE:Europe/Amsterdam
BEGIN:VEVENT
UID:36219@agenda-zaanstreek.nl
DTSTART;TZID=Europe/Amsterdam:20250202T150000
DTEND;TZID=Europe/Amsterdam:20250202T150000
DTSTAMP:20241205T110420Z
URL:https://agenda-zaanstreek.nl/events/galerie-the-waverly/
SUMMARY:Galerie The Waverly
DESCRIPTION:\nAnne Wil Blankers\, Lies Visschedijk\, Daniël Cornelissen\, 
 Dick van den Toorn &amp\; Pepijn Schoneveld\n\nTheatericoon Anne Wil Blank
 ers\, publiekslieveling Lies Visschedijk en waanzinnig talent Daniel Corne
 lissen staan samen met Dick van den Toorn en Pepijn Schoneveld op het tone
 el in de Nederlandse bewerking van The Waverly.\n\n\n\n\nThe Waverly&nbsp\
 ;is een krachtig\, aangrijpend en vaak hilarisch toneelstuk over een gulle
 \, praatgrage grootmoeder (Anne Wil Blankers). Zij is nog altijd eigenares
 se van een kleine kunstgalerie\, maar kampt met de nietsontziende ziekte A
 lzheimer. Het stuk vertelt over haar strijd om haar onafhankelijkheid te b
 ehouden en het effect van haar achteruitgang op haar familie. Het toont de
  humor en kracht van een familie in een crisissituatie.\n\n\n\n
CATEGORIES:Theater,Toneel
LOCATION:Zaantheater\, Nicolaasstraat 3\, Zaandam\, 1506 BB\, Nederland
X-APPLE-STRUCTURED-LOCATION;VALUE=URI;X-ADDRESS=Nicolaasstraat 3\, Zaandam\
 , 1506 BB\, Nederland;X-APPLE-RADIUS=100;X-TITLE=Zaantheater:geo:0,0
END:VEVENT
BEGIN:VTIMEZONE
TZID:Europe/Amsterdam
X-LIC-LOCATION:Europe/Amsterdam
BEGIN:STANDARD
DTSTART:20241027T020000
TZOFFSETFROM:+0200
TZOFFSETTO:+0100
TZNAME:CET
END:STANDARD
END:VTIMEZONE
END:VCALENDAR