BEGIN:VCALENDAR
VERSION:2.0
PRODID:-//wp-events-plugin.com//7.2.3.1//EN
TZID:Europe/Amsterdam
X-WR-TIMEZONE:Europe/Amsterdam
BEGIN:VEVENT
UID:35827@agenda-zaanstreek.nl
DTSTART;TZID=Europe/Amsterdam:20241220T200000
DTEND;TZID=Europe/Amsterdam:20241220T200000
DTSTAMP:20241118T200605Z
URL:https://agenda-zaanstreek.nl/events/fuego-latino-christmas-gala-editio
 n/
SUMMARY:Fuego Latino Christmas Gala edition
DESCRIPTION:\n\n&nbsp\;\nFuego Latino – Friday\, December 20th\, 2024 \n\
 n\nWe’re back with a special edition of Fuego Latino to close out the ye
 ar! Get ready for an unforgettable night of salsa\, bachata\, and spectacu
 lar performances! \n\n\n Schedule:\n\n\n20:00 - 21:00: Salsa Intermediate 
 Workshop with Bram\nSharpen your salsa skills with an intermediate-level w
 orkshop. Perfect for those who want to take their dancing to the next leve
 l!\n\n\n21:00 - 01:00: Party Time!\nDance the night away to the best salsa
  and bachata beats from Ares El Grande DJ. Get ready for non-stop music an
 d great vibes!\n\n\n23:30: Shows\nEnjoy performances from the Love For Sal
 sa Student Show Team\, the Love For Salsa Pro Team and Rivera Mambo Amster
 dam (by Bram). These talented dancers will light up the floor with their i
 ncredible moves!\n\n\n Location: Het Tolhuys aan de Zaan\, Westzijde 216\,
  Zaandam\n Free parking available\n\n\n Don’t miss out on this amazing n
 ight – grab your tickets now!\n\n\nLet’s celebrate the end of 2024 wit
 h style\, rhythm\, and passion. See you there! \n\n\nTickets: https://fueg
 olatino.eu\nfb event: https://www.facebook.com/share/1Dq7xxSvgw/?mibextid=
 9l3rBW\n
CATEGORIES:Cursus Workshop,Dans
LOCATION:Het Tolhuys\, Westzijde 216\, Zaandam\, 1506 GG\, Nederland
X-APPLE-STRUCTURED-LOCATION;VALUE=URI;X-ADDRESS=Westzijde 216\, Zaandam\, 1
 506 GG\, Nederland;X-APPLE-RADIUS=100;X-TITLE=Het Tolhuys:geo:0,0
END:VEVENT
BEGIN:VTIMEZONE
TZID:Europe/Amsterdam
X-LIC-LOCATION:Europe/Amsterdam
BEGIN:STANDARD
DTSTART:20241027T020000
TZOFFSETFROM:+0200
TZOFFSETTO:+0100
TZNAME:CET
END:STANDARD
END:VTIMEZONE
END:VCALENDAR