BEGIN:VCALENDAR
VERSION:2.0
PRODID:-//wp-events-plugin.com//7.2.3.1//EN
TZID:Europe/Amsterdam
X-WR-TIMEZONE:Europe/Amsterdam
BEGIN:VEVENT
UID:34111@agenda-zaanstreek.nl
DTSTART;TZID=Europe/Amsterdam:20241130T130000
DTEND;TZID=Europe/Amsterdam:20241201T170000
DTSTAMP:20241120T110814Z
URL:https://agenda-zaanstreek.nl/events/fotomeetup-expositie/
SUMMARY:Fotomeetup expositie
DESCRIPTION:\n&nbsp\;\n\n\n\n\nZaankanters met een passie voor fotografie k
 omen elke derde dinsdag van de maand samen om over hun werk te praten. Ver
 schillende Zaanse fotografen tonen hun werk aan het publiek. Onder hen: in
 itiatiefnemers van de meetup Simone Ronchetti &amp\; Herman Wieten.\n\nEst
 her Prinsze\nNorma Lo Fo Wong\nMartin Bakker\nPaul Verbunt\nRon Koffeman\n
 Simon Theewis\n\nDe foto-expositie vindt plaats op zaterdag 30 november en
  zondag 1 december van 13.00 tot 17.00 uur – vrij entree\nFotografie-lie
 fhebbers opgelet! De Zaanse fotogemeenschap nodigt iedereen uit voor een i
 nspirerende expositie vol creativiteit en passie. Op zaterdag 30 november 
 en zondag 1 december\, van 13.00 tot 17.00 uur\, presenteren lokale fotogr
 afen hun werk tijdens de Foto-Meetup-Expositie. De toegang is gratis\, en 
 iedereen is van harte welkom.\n\nElke derde dinsdag van de maand komen Zaa
 nkanters met een passie voor fotografie samen om hun werk te bespreken\, e
 lkaar te inspireren en de kunst van het vastleggen van beelden te delen. D
 e expositie is een hoogtepunt waarin het werk van maar liefst zestien Zaan
 se fotografen samenkomt.\n\nVerwacht een breed scala aan stijlen en onderw
 erpen: van verstilde stillevens tot levendige straatfotografie\, van ogens
 chijnlijk alledaagse kiekjes tot abstracte en kunstzinnige composities. Of
  je nu een doorgewinterde fotografie-kenner bent of simpelweg op zoek bent
  naar een middag vol visuele inspiratie\, deze expositie heeft voor ieder 
 wat wils.\n\n
CATEGORIES:Expositie
LOCATION:Zaans Groen\, Zeemansstraat 54\, Zaandam\, 1506 CV\, Nederland
X-APPLE-STRUCTURED-LOCATION;VALUE=URI;X-ADDRESS=Zeemansstraat 54\, Zaandam\
 , 1506 CV\, Nederland;X-APPLE-RADIUS=100;X-TITLE=Zaans Groen:geo:0,0
END:VEVENT
BEGIN:VTIMEZONE
TZID:Europe/Amsterdam
X-LIC-LOCATION:Europe/Amsterdam
BEGIN:STANDARD
DTSTART:20241027T020000
TZOFFSETFROM:+0200
TZOFFSETTO:+0100
TZNAME:CET
END:STANDARD
END:VTIMEZONE
END:VCALENDAR