BEGIN:VCALENDAR
VERSION:2.0
PRODID:-//wp-events-plugin.com//7.2.3.1//EN
TZID:Europe/Amsterdam
X-WR-TIMEZONE:Europe/Amsterdam
BEGIN:VEVENT
UID:36492@agenda-zaanstreek.nl
DTSTART;TZID=Europe/Amsterdam:20250222T203000
DTEND;TZID=Europe/Amsterdam:20250222T203000
DTSTAMP:20241219T103713Z
URL:https://agenda-zaanstreek.nl/events/flip-noorman-animal-farm/
SUMMARY:Flip Noorman - Animal Farm
DESCRIPTION:\n\n\n‘Ongrijpbaar’\, ‘briljant’\, ‘compromisloze eig
 en stijl’\, zijn termen die langs zijn gekomen in pers en juryrapporten 
 om Flip Noorman en zijn programma’s te omschrijven. In Animal Farm&nbsp\
 ;neemt hij de legendarische parabel van George Orwell als vrijelijk vertre
 kpunt om weer een energiek\, grappig\, ontroerend en confronterend theatra
 al concert te maken zoals alleen hij dat kan.\n\n\n\n\n\n\nAnimal Farm&nbs
 p\;is een van Noormans favoriete boeken. Niet in de laatste plaats door he
 t satirische\, haast kinderlijke karakter van zowel de toon als de persona
 ges. Het is deze lichtvoetige simpelheid die je verleidt om de vileine\, d
 uistere analyse te blijven volgen. Als liedschrijver ziet Flip in de karak
 ters het startpunt van een bonte verzameling liedjes. De liedjes worden af
 gewisseld met monologen van Noorman waarin hij gedurende de show subtiel d
 e transformatie ondergaat van rechtgeaarde revolutionair tot machthebber d
 ie alleen nog aan zijn eigen positie denkt.\n\nBijgestaan door zijn band 
 ‘De Noormannen’ wordt de huidige tijdgeest op zijn Flips langs de lat 
 van de beruchte uitspraak “All animals are equal gelegd.”\n\n\nLees me
 er\n\n\n\n\nPrijzen\n\n\n\n\n\n\nza22 feb 202520.30Kleine ZaalBestel\n\n
CATEGORIES:Muziek
LOCATION:Zaantheater\, Nicolaasstraat 3\, Zaandam\, 1506 BB\, Nederland
X-APPLE-STRUCTURED-LOCATION;VALUE=URI;X-ADDRESS=Nicolaasstraat 3\, Zaandam\
 , 1506 BB\, Nederland;X-APPLE-RADIUS=100;X-TITLE=Zaantheater:geo:0,0
END:VEVENT
BEGIN:VTIMEZONE
TZID:Europe/Amsterdam
X-LIC-LOCATION:Europe/Amsterdam
BEGIN:STANDARD
DTSTART:20241027T020000
TZOFFSETFROM:+0200
TZOFFSETTO:+0100
TZNAME:CET
END:STANDARD
END:VTIMEZONE
END:VCALENDAR