BEGIN:VCALENDAR
VERSION:2.0
PRODID:-//wp-events-plugin.com//7.2.3.1//EN
TZID:Europe/Amsterdam
X-WR-TIMEZONE:Europe/Amsterdam
BEGIN:VEVENT
UID:37870@agenda-zaanstreek.nl
DTSTART;TZID=Europe/Amsterdam:20250323T130000
DTEND;TZID=Europe/Amsterdam:20250323T130000
DTSTAMP:20250320T112632Z
URL:https://agenda-zaanstreek.nl/events/fladderen-in-t-natuurmuseum/
SUMMARY:Fladderen in ’t natuurmuseum
DESCRIPTION:\n\n\n\n\n\n&nbsp\;\n\n\n\n\n\n\n\n\n\n\n\n\n\n\n\n\n\n\n\n\n\n
 \n\n\n\n\n\n\n\n\n\nWij hebben honderden mooie vlinders in onze collectie.
  Deze prachtige fladderaars worden niet zo vaak tentoongesteld. We zijn er
  erg zuinig op omdat prachtige kleuren door het zonlicht dof kunnen worden
 . Maar aanstaande zondag (23 maart) pakken we weer eens uit! In het leslok
 aal laten we een groot deel van onze collectie zien. En natuurlijk kunnen 
 we er wat over vertellen. Welke vlinders zijn het\, en waar komen ze voor.
  Bezoekers willen natuurlijk ook graag weten wat vlinders eten en hoe oud 
 ze kunnen worden. Onze medewerkers doen hun best om de antwoorden te geven
 .\nAls je er dan toch bent\, breng dan een bezoek aan de leuke wisselexpos
 itie&nbsp\;Waterwerkers. Hierin leer je alles over het belang van (schoon)
  water. Kinderen vanaf 3 jaar betalen €4\,00 entree. Voor volwassen bege
 leiders en Vrienden van het ZNMC is de toegang gratis.\n\n\n\n\n\n\n\n\n
LOCATION:Natuurmuseum Zirkel voorheen E. Heimans\, Twiskeweg 90\, Zaandam\,
  1504 LB\, Nederland
X-APPLE-STRUCTURED-LOCATION;VALUE=URI;X-ADDRESS=Twiskeweg 90\, Zaandam\, 15
 04 LB\, Nederland;X-APPLE-RADIUS=100;X-TITLE=Natuurmuseum Zirkel voorheen 
 E. Heimans:geo:0,0
END:VEVENT
BEGIN:VTIMEZONE
TZID:Europe/Amsterdam
X-LIC-LOCATION:Europe/Amsterdam
BEGIN:STANDARD
DTSTART:20241027T020000
TZOFFSETFROM:+0200
TZOFFSETTO:+0100
TZNAME:CET
END:STANDARD
END:VTIMEZONE
END:VCALENDAR