BEGIN:VCALENDAR
VERSION:2.0
PRODID:-//wp-events-plugin.com//7.2.3.1//EN
TZID:Europe/Amsterdam
X-WR-TIMEZONE:Europe/Amsterdam
BEGIN:VEVENT
UID:35461@agenda-zaanstreek.nl
DTSTART;TZID=Europe/Amsterdam:20241203T140000
DTEND;TZID=Europe/Amsterdam:20241203T140000
DTSTAMP:20241024T123923Z
URL:https://agenda-zaanstreek.nl/events/filosofisch-cafe-zaanstreek-3-2-2/
SUMMARY:Filosofisch Café Zaanstreek
DESCRIPTION:\n\n3 december om 14:00\n\n\n\n\nIn de Wormerveerse Vermaning Z
 aanweg 57\, 1521 DM Wormerveer\n\n\n&nbsp\;\nOm de week op dinsdagmiddag: 
 Filosofisch Café Zaanstreek.\nFilosofie is kritisch denken en met ratione
 le argumenten zoeken naar de fundamenten van ons bestaan. De rede is het b
 elangrijkste kenmerk van filosofie en daarmee is filosofie de moeder van a
 lle kennis.Hoe filosofie je leven kan veranderen? Kom eenmaal per 14 dagen
  een middag gezellig filosoferen over actuele en andere interessante onder
 werpen\, die door de deelnemers zelf worden uitgekozen.Voor wie? Voor Iede
 reen! Het Filosofisch Café Zaanstreek verwelkomt mensen van alle achtergr
 onden: ongeacht huidskleur\, leeftijd\, seksuele oriëntatie\, opleidingsn
 iveau\, beroep\, en levensfase. Voel de sfeer en neem deel aan een proefse
 ssie om te ervaren of het bij je past. Let wel het is geen cursus maar een
  gespreksgroep.\n\nOnderwerpen? Die hebben betrekking op leven en dood\, z
 iekte en gezondheid\, armoede en rijkdom\, wetenschappen en kunst\, religi
 e en ethiek\, sport en amusement. Voorbeelden: Wat is de zin van het leven
 ? Wat is een gelukkig leven? Zijn wij ons brein? Zijn we allemaal racisten
 ? Hoe ver gaat vrije meningsuiting? Wil je wel of geen euthanasie?\n\nBasi
 sregels? De belangrijkste regel voor een goed socratisch gesprek is het st
 ellen van goede vragen. Een goede vraag leidt tot verheldering en nieuwe i
 nzichten. Doe geen beroep op autoriteit\, boeken ed. Maak alleen gebruik v
 an eigen ervaringen. Luister naar elkaar. Het doel is niet de ander te ove
 rtuigen met jouw meningen en overtuigingen maar met het stellen van goede 
 vragen het onderwerp uit te diepen en die je misschien je mening doen bij 
 stellen.\nBijdrage 7.50 Euro per keer incl. 2 consumpties.\n\nInfo en aanm
 elden: Marcel Boer mmaboer@gmail.com\n\n\n
LOCATION:Wormerveerse Vermaning\, Zaanweg 57\, Wormerveer\, 1521 DM\, Neder
 land
X-APPLE-STRUCTURED-LOCATION;VALUE=URI;X-ADDRESS=Zaanweg 57\, Wormerveer\, 1
 521 DM\, Nederland;X-APPLE-RADIUS=100;X-TITLE=Wormerveerse Vermaning:geo:0
 ,0
END:VEVENT
BEGIN:VTIMEZONE
TZID:Europe/Amsterdam
X-LIC-LOCATION:Europe/Amsterdam
BEGIN:STANDARD
DTSTART:20241027T020000
TZOFFSETFROM:+0200
TZOFFSETTO:+0100
TZNAME:CET
END:STANDARD
END:VTIMEZONE
END:VCALENDAR