BEGIN:VCALENDAR
VERSION:2.0
PRODID:-//wp-events-plugin.com//7.2.3.1//EN
TZID:Europe/Amsterdam
X-WR-TIMEZONE:Europe/Amsterdam
BEGIN:VEVENT
UID:38578@agenda-zaanstreek.nl
DTSTART;TZID=Europe/Amsterdam:20250511T133000
DTEND;TZID=Europe/Amsterdam:20250511T133000
DTSTAMP:20250508T073401Z
URL:https://agenda-zaanstreek.nl/events/fien-teun-de-musical-2-circus-op-d
 e-boerderij/
SUMMARY:Fien & Teun de musical (2+) Circus op de Boerderij
DESCRIPTION:\n\n\n 	Jeugd &amp\; Familie\, Musical\n\n\n\n\nHet populaire b
 oertje en boerinnetje\, Fien en Teun\, komen terug naar het theater met ee
 n spiksplinternieuwe familievoorstelling&nbsp\;Circus op de boerderij! Kom
 t dat zien\, komt dat zien! Zing en dans mee met alle liedjes en zet samen
  met Fien en Teun en alle dierenvriendjes de boel op zijn kop tijdens deze
  onvergetelijke familiemusical.\n\n\n\n\n\n\nHet verhaal\n\nSebastiaan het
  Varken is bijna jarig en dat willen Fien en Teun vieren met het leukste f
 eestje ooit. Als ze in de weide een oude circuswagen vinden\, weten ze gel
 ijk wat de perfecte verrassing gaat zijn: ze gaan een circusvoorstelling m
 aken! En Sebastiaan mag het niet weten\, want anders is het geen verrassin
 g meer. Samen met hun dierenvriendjes gaan Fien en Teun gelijk heel hard o
 efenen\, maar een circus maken blijkt nog helemaal niet zo gemakkelijk... 
 Kunnen Fien en Teun dit bijzondere feest ook écht geheimhouden? En zal he
 t ze lukken om alle circusacts op tijd klaar te hebben?\n\nDe muzikale fam
 ilievoorstelling is geschikt voor kinderen vanaf 2 jaar en is leerzaam\, g
 rappig en zit vol interactie.\n\nBoerderij Experience\n\nVóór en na de v
 oorstelling kunnen de kleinste bezoekers zich vermaken tijdens de ‘Boerd
 erij Experience’ in de foyer van het theater. Hier ontdekken ze al spele
 nderwijs van alles over het leven op de boerderij. Natuurlijk komen Fien e
 n Teun na afloop van de voorstelling ook naar de foyer voor een foto en ee
 n dikke knuffel.\n\n\nLees meer\n\n\n\n\nPrijzen\n\n\n\n\n\nExtra informat
 ie:\n\n\n\n\n\nzo11 mei 202513.30Albert HeijnzaalBestel\n\n
CATEGORIES:Jeugd,Jeugd en Familie,Musical
LOCATION:Zaantheater\, Nicolaasstraat 3\, Zaandam\, 1506 BB\, Nederland
X-APPLE-STRUCTURED-LOCATION;VALUE=URI;X-ADDRESS=Nicolaasstraat 3\, Zaandam\
 , 1506 BB\, Nederland;X-APPLE-RADIUS=100;X-TITLE=Zaantheater:geo:0,0
END:VEVENT
BEGIN:VTIMEZONE
TZID:Europe/Amsterdam
X-LIC-LOCATION:Europe/Amsterdam
BEGIN:DAYLIGHT
DTSTART:20250330T030000
TZOFFSETFROM:+0100
TZOFFSETTO:+0200
TZNAME:CEST
END:DAYLIGHT
END:VTIMEZONE
END:VCALENDAR