BEGIN:VCALENDAR
VERSION:2.0
PRODID:-//wp-events-plugin.com//7.2.3.1//EN
TZID:Europe/Amsterdam
X-WR-TIMEZONE:Europe/Amsterdam
BEGIN:VEVENT
UID:31880@agenda-zaanstreek.nl
DTSTART;TZID=Europe/Amsterdam:20241114T201500
DTEND;TZID=Europe/Amsterdam:20241114T201500
DTSTAMP:20240319T105545Z
URL:https://agenda-zaanstreek.nl/events/festival-oude-muziek-castello-cons
 ort/
SUMMARY:Festival Oude Muziek | Castello Consort
DESCRIPTION:
CATEGORIES:Klassiek
LOCATION:Zuidervermaning Westzaan\, Zuideinde 233\, Westzaan\, 1551 EG\, Ne
 derland
X-APPLE-STRUCTURED-LOCATION;VALUE=URI;X-ADDRESS=Zuideinde 233\, Westzaan\, 
 1551 EG\, Nederland;X-APPLE-RADIUS=100;X-TITLE=Zuidervermaning Westzaan:ge
 o:0,0
END:VEVENT
BEGIN:VTIMEZONE
TZID:Europe/Amsterdam
X-LIC-LOCATION:Europe/Amsterdam
BEGIN:STANDARD
DTSTART:20241027T020000
TZOFFSETFROM:+0200
TZOFFSETTO:+0100
TZNAME:CET
END:STANDARD
END:VTIMEZONE
END:VCALENDAR