BEGIN:VCALENDAR
VERSION:2.0
PRODID:-//wp-events-plugin.com//7.2.3.1//EN
TZID:Europe/Amsterdam
X-WR-TIMEZONE:Europe/Amsterdam
BEGIN:VEVENT
UID:38627@agenda-zaanstreek.nl
DTSTART;TZID=Europe/Amsterdam:20250510T120000
DTEND;TZID=Europe/Amsterdam:20250510T160000
DTSTAMP:20250508T153712Z
URL:https://agenda-zaanstreek.nl/events/feestelijke-opening-van-het-burgem
 eester-j-de-boerpark/
SUMMARY:Feestelijke opening van het Burgemeester J. de Boerpark
DESCRIPTION:\nCrescendo Assendelft is aanwezig bij de feestelijke opening v
 an het Burgemeester J. de Boerpark op zaterdag 10 mei! \nTijdens de openin
 g van het park verzorgt ons dweilorkest Goed dat je er band een muzikaal o
 ptreden. \n\n\nDaarnaast kun je zelf een muziekinstrument uitproberen en m
 eer informatie krijgen over onze vereniging.\n\n\nBlaas jij zaterdag de st
 erren van de hemel?\n\n\nKom langs bij ons kraampje in het park tussen 12:
 00 en 16:00 uur!\n
CATEGORIES:Muziek
LOCATION:Burgemeester J. de Boerpark\, Rosa Manuspad\, Assendelft\, 1566 BC
 \, Nederland
X-APPLE-STRUCTURED-LOCATION;VALUE=URI;X-ADDRESS=Rosa Manuspad\, Assendelft\
 , 1566 BC\, Nederland;X-APPLE-RADIUS=100;X-TITLE=Burgemeester J. de Boerpa
 rk:geo:0,0
END:VEVENT
BEGIN:VTIMEZONE
TZID:Europe/Amsterdam
X-LIC-LOCATION:Europe/Amsterdam
BEGIN:DAYLIGHT
DTSTART:20250330T030000
TZOFFSETFROM:+0100
TZOFFSETTO:+0200
TZNAME:CEST
END:DAYLIGHT
END:VTIMEZONE
END:VCALENDAR