BEGIN:VCALENDAR
VERSION:2.0
PRODID:-//wp-events-plugin.com//7.2.3.1//EN
TZID:Europe/Amsterdam
X-WR-TIMEZONE:Europe/Amsterdam
BEGIN:VEVENT
UID:35681@agenda-zaanstreek.nl
DTSTART;TZID=Europe/Amsterdam:20241124T100000
DTEND;TZID=Europe/Amsterdam:20241124T100000
DTSTAMP:20241106T105257Z
URL:https://agenda-zaanstreek.nl/events/feestelijke-eucharistieviering-in-
 de-sint-bonifatiuskerk-met-muzikale-medewerking-van-het-opmeers-vocaal-ens
 emble-ove/
SUMMARY:Feestelijke eucharistieviering in de Sint-Bonifatiuskerk\, met muzi
 kale medewerking van het Opmeers Vocaal Ensemble (OVE).
DESCRIPTION:De ‘Krönungsmesse’ van W.A. Mozart\, het Ave Maria door so
 praan Joke Oud en bespeling van het Mittherreiterorgel door Alexander Pavl
 off in de Bonifatiuskerk\, Oostzijde\, Zaandam\n\nZondag 24 november a.s. 
 10.00 uur feestelijke eucharistieviering in de Sint-Bonifatiuskerk\, met m
 uzikale medewerking van het Opmeers Vocaal Ensemble (OVE).\n\nHet Hoogfees
 t van Christus Koning\, ter viering van het einde van het kerkelijk jaar\,
  wordt in de katholieke kerken dit jaar gevierd op 24 november en in de Si
 nt-Bonifatiuskerk met een extra muzikale eucharistieviering. Deze wordt\, 
 traditiegetrouw\, muzikaal verzorgd door het Opmeers Vocaal Ensemble ‘É
 CHO DE CHAPELLE’ o.l.v. dirigent Alexandre Pavloff die tevens het pracht
 ige monumentale Mittherreiterorgel zal bespelen.\n\nIn deze jaarlijkse OVE
 -traditie in de Sint-Bonifatiuskerk past het een mooie mis ten gehore bren
 gen\, met de ‘Krönungsmesse’ van W.A. Mozart. Daarnaast zal de sopraa
 n Joke Oud het prachtige ‘Ave Maria’ van William Gomes ten gehore bren
 gen.\n\nTevens gedenkt de parochie op deze bijzonder dag pastoor A.F.M. Go
 edhart overleden op 26 november 2020. Deze jaarlijkse gedenkdag is een ini
 tiatief van zijn opvolger\, in regio Katholiek Zaanstreek\, pastoor-deken 
 George Paimpillil\, die ook voorgaat in deze dienst.&nbsp\; Hij vindt het 
 belangrijk zijn voorganger\, die 35 jaar lang de Bonifatiusparochie als he
 rder voorging\, in dankbare herinnering te houden.\n\nHet Opmeers Vocaal E
 nsemble viert dit jaar haar 35-jarig jubileum. Zij doen dit o.a. met door 
 het jaar heen extra feestelijke concerten te geven én het verzorgen van d
 e jaarlijkse Christus Koning viering in de Sint-Bonifatiuskerk.\n\nNa aflo
 op van de viering zal koffie worden geschonken op het ‘Ontmoetingsplein
 ’ achter in de kerk. De toegang is gratis wel wordt er een deurcollecte 
 gehouden om de kosten enigszins te dekken.\n\nKomt allen naar deze feestel
 ijke viering.\n\nU bent van harte welkom!\n\n&nbsp\;
CATEGORIES:Interkerkelijk,Klassiek,Muziek
LOCATION:Sint Bonifatiuskerk\, Oostzijde 14\, Zaandam\, 1502 BG\, Nederland
X-APPLE-STRUCTURED-LOCATION;VALUE=URI;X-ADDRESS=Oostzijde 14\, Zaandam\, 15
 02 BG\, Nederland;X-APPLE-RADIUS=100;X-TITLE=Sint Bonifatiuskerk:geo:0,0
END:VEVENT
BEGIN:VTIMEZONE
TZID:Europe/Amsterdam
X-LIC-LOCATION:Europe/Amsterdam
BEGIN:STANDARD
DTSTART:20241027T020000
TZOFFSETFROM:+0200
TZOFFSETTO:+0100
TZNAME:CET
END:STANDARD
END:VTIMEZONE
END:VCALENDAR