BEGIN:VCALENDAR
VERSION:2.0
PRODID:-//wp-events-plugin.com//7.2.3.1//EN
TZID:Europe/Amsterdam
X-WR-TIMEZONE:Europe/Amsterdam
BEGIN:VEVENT
UID:38172@agenda-zaanstreek.nl
DTSTART;TZID=Europe/Amsterdam:20250413T140000
DTEND;TZID=Europe/Amsterdam:20250413T140000
DTSTAMP:20250410T085958Z
URL:https://agenda-zaanstreek.nl/events/feestelijke-buitendienst-kerk-van-
 nazarener-zaanstad/
SUMMARY:Feestelijke buitendienst Kerk van Nazarener Zaanstad
DESCRIPTION:De Kerk van de Nazarener Zaanstad bestaat 50 jaar en dat wordt 
 gevierd met een bijzondere buitendienst. Er is&nbsp\; live muziek\, een in
 spirerende boodschap en activiteiten voor jong en oud. Een feest dat niet 
 alleen de rijke historie van de kerk viert\, maar ook laat zien hoe de ker
 k vandaag de dag een plek van verbinding is. Iedereen is welkom.\n\nBron: 
 De Orkaan
CATEGORIES:Interkerkelijk
LOCATION:Kerk van de Nazarener\, Zuideinde 22\, Koog aan de Zaan\, 1541 CD\
 , Nederland
X-APPLE-STRUCTURED-LOCATION;VALUE=URI;X-ADDRESS=Zuideinde 22\, Koog aan de 
 Zaan\, 1541 CD\, Nederland;X-APPLE-RADIUS=100;X-TITLE=Kerk van de Nazarene
 r:geo:0,0
END:VEVENT
BEGIN:VTIMEZONE
TZID:Europe/Amsterdam
X-LIC-LOCATION:Europe/Amsterdam
BEGIN:DAYLIGHT
DTSTART:20250330T030000
TZOFFSETFROM:+0100
TZOFFSETTO:+0200
TZNAME:CEST
END:DAYLIGHT
END:VTIMEZONE
END:VCALENDAR