BEGIN:VCALENDAR
VERSION:2.0
PRODID:-//wp-events-plugin.com//7.2.3.1//EN
TZID:Europe/Amsterdam
X-WR-TIMEZONE:Europe/Amsterdam
BEGIN:VEVENT
UID:39055@agenda-zaanstreek.nl
DTSTART;TZID=Europe/Amsterdam:20250629T160000
DTEND;TZID=Europe/Amsterdam:20250629T160000
DTSTAMP:20250605T073059Z
URL:https://agenda-zaanstreek.nl/events/feestelijk-zomerconcert-muziekhave
 n/
SUMMARY:Feestelijk zomerconcert MuziekHaven
DESCRIPTION:zondag 29 juni\, 16:00\n\nViolisten Maria Milstein en Mathieu v
 an Bellen zijn al 6 jaar beheerders en artistieke leiders van MuziekHaven.
  Samen met pianist Omri Epstein geven ze een feestelijk slotconcert van he
 t seizoen\, in samenwerking met FluXus en IKToon de Zaanstreek. Zij stelle
 n een afwisselend programma voor met o.a. muziek van Schubert\, Schumann\,
  Bartók en Bach. Na afloop is er een borrel om het begin van de zomer te 
 vieren!\n\nHet concert is zonder pauze\, met borrel na afloop. Ook vertell
 en wij u graag over de voortgang van de werkzaamheden.\n\n Reserveer uw ka
 artjes hier.
CATEGORIES:Klassiek,Muziek
LOCATION:MuziekHaven\, Papenpad 13\, Zaandam\, 1506 GR\, Nederland
X-APPLE-STRUCTURED-LOCATION;VALUE=URI;X-ADDRESS=Papenpad 13\, Zaandam\, 150
 6 GR\, Nederland;X-APPLE-RADIUS=100;X-TITLE=MuziekHaven:geo:0,0
END:VEVENT
BEGIN:VTIMEZONE
TZID:Europe/Amsterdam
X-LIC-LOCATION:Europe/Amsterdam
BEGIN:DAYLIGHT
DTSTART:20250330T030000
TZOFFSETFROM:+0100
TZOFFSETTO:+0200
TZNAME:CEST
END:DAYLIGHT
END:VTIMEZONE
END:VCALENDAR