BEGIN:VCALENDAR
VERSION:2.0
PRODID:-//wp-events-plugin.com//7.2.3.1//EN
TZID:Europe/Amsterdam
X-WR-TIMEZONE:Europe/Amsterdam
BEGIN:VEVENT
UID:38562@agenda-zaanstreek.nl
DTSTART;TZID=Europe/Amsterdam:20250525T120000
DTEND;TZID=Europe/Amsterdam:20250525T180000
DTSTAMP:20250506T093404Z
URL:https://agenda-zaanstreek.nl/events/feest-op-het-plein-met-het-ontroer
 end-goed-koor/
SUMMARY:Feest op het plein met het Ontroerend Goed Koor
DESCRIPTION:Wij van het Ontroerend Goed Koor uit Wormerveer verzorgen in na
 uwe samenwerking met Buurtcentrum&nbsp\; De Lorzie voor de 8e keer\, op zo
 ndag 25 mei\, &nbsp\;het jaarlijkse PleinFestijn op het Marktplein in Worm
 erveer. Het festival begint om 12.00 en wordt om 18.00 uur afgesloten.\n\n
 Naast het organiserende koor\, kunt u ook genieten van spetterende optrede
 ns van het Popkoor Zingsation uit Velserbroek en het Amstel Gospel Choir u
 it Amstelveen.\n\nDe Beatrix Pipes Band uit Kortenhoef\, één van de ouds
 te en bekendste doedelzakbands van Nederland\, opent het PleinFestijn en z
 ijn tevens te bewonderen in de pauze van het PleinFestijn. &nbsp\;\n\nDe d
 eelname van deze koren staat garant voor een mooie mix van levensliederen\
 , popsongs en swingende gospelsongs. Het geheel zal ten gehore gebracht wo
 rden vanaf een podium wagen van de firma Komen transport BV uit Amsterdam.
 \n\nVoor de kinderen worden er activiteiten georganiseerd zoals schminken 
 en sneltekenen en er kan een suikerspin gesnoept worden.\n\nOok hebben we 
 deze dag onze geweldige Tombola waar je zeker lootjes voor moet kopen want
  zoals altijd heb je altijd prijzen. Er zijn weer vele mooie prijzen te wi
 nnen.\n\nHet geheel zal worden afgesloten door een swingend optreden van W
 illiam and the Handjives uit Nijmegen. Deze band staat garant voor een gew
 eldige afsluiting waar je zeker niet kan stilzitten en lekker kan meedanse
 n en zingen.\n\nEr zijn op het PleinFestijn terrein\, op het Marktplein\, 
 diverse hapjes en drankjes te verkrijgen. Naast contant kan er ook gepind 
 worden.\n\nVoor minder validen en rolstoel gebruikers zijn er speciale pla
 atsen gereserveerd\n\nDe toegang is gratis en iedereen is van harte welkom
 ! We zien u graag op zondag 25 mei op het Marktplein in Wormerveer.
CATEGORIES:Koren,Muziek
LOCATION:Marktplein\, Marktplein\, Wormerveer\, 1521 HS\, Nederland
X-APPLE-STRUCTURED-LOCATION;VALUE=URI;X-ADDRESS=Marktplein\, Wormerveer\, 1
 521 HS\, Nederland;X-APPLE-RADIUS=100;X-TITLE=Marktplein:geo:0,0
END:VEVENT
BEGIN:VTIMEZONE
TZID:Europe/Amsterdam
X-LIC-LOCATION:Europe/Amsterdam
BEGIN:DAYLIGHT
DTSTART:20250330T030000
TZOFFSETFROM:+0100
TZOFFSETTO:+0200
TZNAME:CEST
END:DAYLIGHT
END:VTIMEZONE
END:VCALENDAR