BEGIN:VCALENDAR
VERSION:2.0
PRODID:-//wp-events-plugin.com//7.2.3.1//EN
TZID:Europe/Amsterdam
X-WR-TIMEZONE:Europe/Amsterdam
BEGIN:VEVENT
UID:40114@agenda-zaanstreek.nl
DTSTART;TZID=Europe/Amsterdam:20251018T130000
DTEND;TZID=Europe/Amsterdam:20251019T150000
DTSTAMP:20250905T103352Z
URL:https://agenda-zaanstreek.nl/events/familietheater-klap-van-de-molen-2
 x/
SUMMARY:IFIKZ Familietheater Klap van de Molen (2x)
DESCRIPTION:\n\n\n\n\n\n\n\nEen spannend verhaal over de molens van toen en
  nu\, met prachtige poppen\, humor en sprankelende liedjes. De voorstellin
 g is gebaseerd op het gelijknamige boek van Hans Kuyper\, waarin Marij met
  het folkbandje van haar vader de Zaanse Schans bezoekt en door een ongelu
 k terechtkomt in het Zaandijk van rond 1800. Daar sluit ze vriendschap met
  Guurtje en leert over het (molen)leven van toen. Met het entreekaartje ku
 n je ook het Molenmuseum én molen De Huisman gratis bezoeken.\n\n\n\n&nbs
 p\;\n→ Lees over de Making-Off\n\n\n\n\n\nLOCATIE:&nbsp\;Molenmuseum\,&n
 bsp\;Kalverringdijk 30\, Zaanse Schans\, 1509 BT Zaandam\nTIJDEN:&nbsp\;&n
 bsp\;13.00-14.00 uur | 15.00-16.00 uur\nVOOR WIE:&nbsp\;kinderen 6-10 jaar
  (minimaal 1 volwassene als begeleider)\nPRIJS:&nbsp\;&nbsp\;€ 5\,- kind
 eren\, € 10\,- volwassenen\n\n\n
CATEGORIES:Erfgoed
LOCATION:Molenmuseum\, Kalverringdijk 30\, Zaandam\, 1509 BT\, Nederland
X-APPLE-STRUCTURED-LOCATION;VALUE=URI;X-ADDRESS=Kalverringdijk 30\, Zaandam
 \, 1509 BT\, Nederland;X-APPLE-RADIUS=100;X-TITLE=Molenmuseum:geo:0,0
END:VEVENT
BEGIN:VTIMEZONE
TZID:Europe/Amsterdam
X-LIC-LOCATION:Europe/Amsterdam
BEGIN:DAYLIGHT
DTSTART:20250330T030000
TZOFFSETFROM:+0100
TZOFFSETTO:+0200
TZNAME:CEST
END:DAYLIGHT
END:VTIMEZONE
END:VCALENDAR